BEGIN:VCALENDAR
VERSION:2.0
PRODID:-//ChamberMaster//Event Calendar 2.0//EN
METHOD:PUBLISH
X-PUBLISHED-TTL:P3D
REFRESH-INTERVAL:P3D
CALSCALE:GREGORIAN
BEGIN:VEVENT
DTSTART;VALUE=DATE:20100430
DTEND;VALUE=DATE:20100814
TRANSP:TRANSPARENT
X-MICROSOFT-CDO-ALLDAYEVENT:TRUE
SUMMARY:2010 Photo Contest
DESCRIPTION:
X-ALT-DESC;FMTTYPE=text/html:
LOCATION:
UID:e.160.1072
SEQUENCE:3
DTSTAMP:20260424T222035Z
URL:https://members.nmccalliance.com/events/details/2010-photo-contest-04-30-2010-1072
END:VEVENT

END:VCALENDAR
