BEGIN:VCALENDAR
VERSION:2.0
PRODID:-//ChamberMaster//Event Calendar 2.0//EN
METHOD:PUBLISH
X-PUBLISHED-TTL:P3D
REFRESH-INTERVAL:P3D
CALSCALE:GREGORIAN
BEGIN:VEVENT
DTSTART:20101125T140000Z
DTEND:20101125T190000Z
X-MICROSOFT-CDO-ALLDAYEVENT:FALSE
SUMMARY:2010 Turkey Burner Family Wellness Run
DESCRIPTION:A 5k run will be held at the Hinokley Reservation in Hinokley\, Ohio on Thanksgiving day.  Register in advance ($20/person) at www.active.com or on the day of the event ($25/person).  The event is for all ages and awards will be given for age categories and special groups: \n\n\n\nMother & Child\, Father & Child\, Groups of 2 w/ combined age of 80+\, Grandparents w/Grandchild\, Family:  Mother\, Father\, & 1 Child\, and Best Dressed Turkey! \n\n\n\nRegistration opens at 7:30AM on the day of the event\, or pick up your registration early on November 24 at the American Red Cross from 8:30AM-4:30PM. \n\n\n\n\n\n\nThe Family Turkey Hunt starts at 8:30AM and will include a scavenger hunt for prizes as well as a fun hike!  Cost is $20/family. \n\n\n\n\n\nProceeds from the Family Turkey Hunt and 5k will help local house and apartment fire victims.
X-ALT-DESC;FMTTYPE=text/html:A 5k run will be held at the Hinokley Reservation in Hinokley\, Ohio on Thanksgiving day.&nbsp\; Register in advance ($20/person)&nbsp\;at <a href="http://www.active.com">www.active.com</a> or on the day of the event ($25/person).&nbsp\; The event is for all ages and awards will be given for age categories and special groups:&nbsp\;<br />\n<br />\nMother &amp\; Child\, Father &amp\; Child\, Groups of 2 w/ combined age of 80+\, Grandparents w/Grandchild\, Family:&nbsp\; Mother\, Father\, &amp\; 1 Child\, and Best Dressed Turkey!&nbsp\;<br />\n<br />\nRegistration opens at 7:30AM on the day of the event\, or pick up your registration early on November 24 at the American Red Cross from 8:30AM-4:30PM.&nbsp\;<br />\n<br />\n<hr />\n<br />\nThe Family Turkey Hunt starts at 8:30AM and will include a scavenger hunt for prizes as well as a fun hike!&nbsp\; Cost is $20/family.&nbsp\;<br />\n<br />\n<br />\nProceeds from the Family Turkey Hunt and 5k will help local house and apartment fire victims.&nbsp\; 
LOCATION:Hinokley Reservation in Hinokley\, OH Bellus Rd.\, Just East of St. Rt. 606
UID:e.160.1292
SEQUENCE:3
DTSTAMP:20260424T185429Z
URL:https://members.nmccalliance.com/events/details/2010-turkey-burner-family-wellness-run-11-25-2010-1292
END:VEVENT

END:VCALENDAR
