BEGIN:VCALENDAR
VERSION:2.0
PRODID:-//ChamberMaster//Event Calendar 2.0//EN
METHOD:PUBLISH
X-PUBLISHED-TTL:P3D
REFRESH-INTERVAL:P3D
CALSCALE:GREGORIAN
BEGIN:VEVENT
DTSTART:20131019T140000Z
DTEND:20131019T230000Z
X-MICROSOFT-CDO-ALLDAYEVENT:FALSE
SUMMARY:2nd Year Anniversary Sale and Diamond Treasure Hunt
DESCRIPTION:Corder's Jewelers is SOOOOOO excited to announce our 2nd Year Anniversary Sale and FREE Diamond Treasure Hunt. We want to say thank-you to our community and our loyal customers for supporting us for the last two years.\n\n	On October 19th\, Swe.test Day\, from 10am to 7pm we will have our HUGE 2nd Year Anniversary Sale. Everything in the store will be discounted 25-75% off\, Engagement rings and Bridal sets\, Earrings\, Pendants\, Bracelets and even our newest and hottest Christmas pieces. White\, Yellow and Rose gold with Diamonds or Gemstones all at discounted prices.\n\n	Our FREE Diamond Treasure Hunt is such a fun event for the whole family but you must R.S.V.P. We will have music\, BBQ and FREE give-a-ways. Don't miss out and mark it down on your calendar.
X-ALT-DESC;FMTTYPE=text/html:<div class="text_exposed_root text_exposed" id="id_525eefc06e6358918875058">\n	<span class="userContent">Corder&#39\;s Jewelers is SOOOOOO excited to announce our 2nd Year Anniversary Sale and FREE Diamond Treasure Hunt. We want to say thank-you to our community and our loyal customers for supporting us for the last two years.<br />\n	On October 19th\, Swe<span class="text_exposed_hide">.</span><span class="text_exposed_show">test Day\, from 10am to 7pm we will have our HUGE 2nd Year Anniversary Sale. Everything in the store will be discounted 25-75% off\, Engagement rings and Bridal sets\, Earrings\, Pendants\, Bracelets and even our newest and hottest Christmas pieces. White\, Yellow and Rose gold with Diamonds or Gemstones all at discounted prices.<br />\n	Our FREE Diamond Treasure Hunt is such a fun event for the whole family but you must R.S.V.P. We will have music\, BBQ and FREE give-a-ways. Don&#39\;t miss out and mark it down on your calendar.</span></span></div>\n
LOCATION:3841 Center Road\, Brunswick Ohio
UID:e.160.1999
SEQUENCE:3
DTSTAMP:20260421T201938Z
URL:https://members.nmccalliance.com/events/details/2nd-year-anniversary-sale-and-diamond-treasure-hunt-10-19-2013-1999
END:VEVENT

END:VCALENDAR
