BEGIN:VCALENDAR
VERSION:2.0
PRODID:-//ChamberMaster//Event Calendar 2.0//EN
METHOD:PUBLISH
X-PUBLISHED-TTL:P3D
REFRESH-INTERVAL:P3D
CALSCALE:GREGORIAN
BEGIN:VEVENT
DTSTART:20110407T230000Z
DTEND:20110408T010000Z
X-MICROSOFT-CDO-ALLDAYEVENT:FALSE
SUMMARY:Adult Student Information Session at Medina County University Center
DESCRIPTION:Come visit us at MCUC t learn about programs and classes offered for adults.  From undergraduate to graduate classes\, we have it all.  Visit our website or call us for more information
X-ALT-DESC;FMTTYPE=text/html:Come visit us at MCUC t learn about programs and classes offered for adults.  From undergraduate to graduate classes\, we have it all.  Visit our website or call us for more information
LOCATION:Medina County University Center 6300 Technology Lane\, Medina\, OH\, 44256
UID:e.160.1663
SEQUENCE:3
DTSTAMP:20260423T215638Z
URL:https://members.nmccalliance.com/events/details/adult-student-information-session-at-medina-county-university-center-04-07-2011-1663
END:VEVENT

END:VCALENDAR
