BEGIN:VCALENDAR
VERSION:2.0
PRODID:-//ChamberMaster//Event Calendar 2.0//EN
METHOD:PUBLISH
X-PUBLISHED-TTL:P3D
REFRESH-INTERVAL:P3D
CALSCALE:GREGORIAN
BEGIN:VEVENT
DTSTART:20091203T223000Z
DTEND:20091204T010000Z
X-MICROSOFT-CDO-ALLDAYEVENT:FALSE
SUMMARY:Annual Holiday Networking Party-2009
DESCRIPTION:To see the invitation:\n\nsecure.chambermaster.com/FCKeditor/UserFiles/chambers/160/File/invitation%20play2.pdf
X-ALT-DESC;FMTTYPE=text/html:<div>To see the invitation:</div>\n\n<div><a href="https://secure.chambermaster.com/FCKeditor/UserFiles/chambers/160/File/invitation%20play2.pdf">secure.chambermaster.com/FCKeditor/UserFiles/chambers/160/File/invitation%20play2.pdf</a></div>\n
LOCATION:Southwest General's brunswick Medical Center (next to city hall on Center Road (303)
UID:e.160.819
SEQUENCE:3
DTSTAMP:20260425T104816Z
URL:https://members.nmccalliance.com/events/details/annual-holiday-networking-party-2009-12-03-2009-819
END:VEVENT

END:VCALENDAR
