BEGIN:VCALENDAR
VERSION:2.0
PRODID:-//ChamberMaster//Event Calendar 2.0//EN
METHOD:PUBLISH
X-PUBLISHED-TTL:P3D
REFRESH-INTERVAL:P3D
CALSCALE:GREGORIAN
BEGIN:VEVENT
DTSTART:20131121T223000Z
DTEND:20131122T010000Z
X-MICROSOFT-CDO-ALLDAYEVENT:FALSE
SUMMARY:Annual Holiday Party November 2013
DESCRIPTION:Sponsored by  All Construction Services and COSE\n\n\n\nThursday\, November 21st from 5:30 - 8pm\n\nat Shale Creek!\n\n\n\n \n\nHeavy appetizers and one drink ticket will be provided for $25.00 per person\n\n\n\n\n\n5:30 Networking!\n\n6:00 State of the Chamber and New Board Member Induction\n\n6:30-8pm Networking!\n\n\n\nCall (330-225-8411) or email (exec@brunswickareachamber.org) to register for this great event
X-ALT-DESC;FMTTYPE=text/html:<div style="text-align: center\;">Sponsored by &nbsp\;All Construction Services and COSE<br />\n<br />\n<span style="font-size:16px\;"><span style="color:#0000ff\;">Thursday\, November 21st from 5:30 - 8pm<br />\nat Shale Creek!</span></span><br />\n<br />\n&nbsp\;</div>\n\n<div style="text-align: center\;"><span style="font-size:14px\;">Heavy appetizers and one drink ticket will be provided for $25.00 per person<br />\n<br />\n<br />\n5:30 Networking!<br />\n6:00 State of the Chamber and New Board Member Induction<br />\n6:30-8pm Networking!<br />\n<br />\nCall (330-225-8411) or email (exec@brunswickareachamber.org) to register for this great event</span></div>\n
LOCATION:Shale Creek 5420 Wolff Road Medina\, Ohio 442556
UID:e.160.1766
SEQUENCE:3
DTSTAMP:20260421T183117Z
URL:https://members.nmccalliance.com/events/details/annual-holiday-party-november-2013-11-21-2013-1766
END:VEVENT

END:VCALENDAR
