BEGIN:VCALENDAR
VERSION:2.0
PRODID:-//ChamberMaster//Event Calendar 2.0//EN
METHOD:PUBLISH
X-PUBLISHED-TTL:P3D
REFRESH-INTERVAL:P3D
CALSCALE:GREGORIAN
BEGIN:VEVENT
DTSTART:20111021T230000Z
DTEND:20111022T020000Z
X-MICROSOFT-CDO-ALLDAYEVENT:FALSE
SUMMARY:Architectural Justice 25th Anniversary Event
DESCRIPTION:Architectural Justice is a full-service design center located in Medina\, Ohio.  To celebrate our 25th anniversary we are proud to present the second annual "Product Runway" fashion show\, an exploration of architecture\, interior and fashion design.  Wine and hors' doeuvres will be served.
X-ALT-DESC;FMTTYPE=text/html:Architectural Justice is a full-service design center located in Medina\, Ohio.&#65533\; To celebrate our 25th anniversary we are proud to present the second annual &quot\;Product Runway&quot\; fashion show\, an exploration of architecture\, interior and fashion design.&nbsp\; Wine and hors&#39\; doeuvres will be served.&nbsp\; 
LOCATION:2462 Pearl Road Medina\, OH 44256
UID:e.160.1678
SEQUENCE:3
DTSTAMP:20260423T113923Z
URL:https://members.nmccalliance.com/events/details/architectural-justice-25th-anniversary-event-10-21-2011-1678
END:VEVENT

END:VCALENDAR
