BEGIN:VCALENDAR
VERSION:2.0
PRODID:-//ChamberMaster//Event Calendar 2.0//EN
METHOD:PUBLISH
X-PUBLISHED-TTL:P3D
REFRESH-INTERVAL:P3D
CALSCALE:GREGORIAN
BEGIN:VEVENT
DTSTART:20090618T113000Z
DTEND:20090618T210000Z
X-MICROSOFT-CDO-ALLDAYEVENT:FALSE
SUMMARY:BACC 2009 Golf Outing
DESCRIPTION:Brunswick Auto Mart presents The BACC 2009 Annual Golf Outing Coppertop at Cherokee Hills Thursday\, June 18\, 2009 Join us for this fun networking event! Golfers receive a continental breakfast\, a brown bag lunch\, and dinner.    Thank you to our sponsors:Eagle Sponsors: Cleveland Clinic Brunswick\, FirstMerit Bank\, Liberty Ford of Brunswick and Medina General HospitalBirdie Sponsor: Key BankCart Sponsors: Life Care Center of Medina\,  Dust Control\, Southwest General Health Center and Plum Creek Assisted LivingHole/Tee Sponsors:  Comp Management Inc.\, Imperial Pest Control\, Juliann Demand-Balski\,   Transitional Living Centers\, The Hoffman  Group\, Waite & Son Funeral\, Shale Creek Golf Club\, Pearlview Care Center\, Millennium Rehabilitation\, Giant Eagle  and Tri-C Breakfast Sponsor: First Federal of LakewoodPutting Contest: Homestead Insurance AgencyGolf Ball Sponsor:  Wiant JewelersBall Drop Sponsor: Cleveland Clinic BrunswickHurricane/Margarita Station: Bullseye Activewear
X-ALT-DESC;FMTTYPE=text/html:<div align="center"><font color="#0000ff" size="4"><strong>Brunswick Auto Mart</strong></font></div><div align="center">&nbsp\;</div><div align="center"><font size="4">presents</font></div><div align="center">&nbsp\;</div><div align="center"><font size="4">The BACC 2009&nbsp\;</font><font size="4">Annual Golf Outing</font></div><div align="center">&nbsp\;</div><div align="center"><font size="4">Coppertop at Cherokee Hills</font></div><div align="center">&nbsp\;</div><div align="center"><font size="4">Thursday\, June 18\, 2009</font></div><div align="center">&nbsp\;</div><div align="center"><font color="#ff0000" size="4">Join us for this fun networking event!</font></div><div align="center">&nbsp\;</div><div align="center"><font size="4">Golfers receive a continental breakfast\, a brown bag lunch\, and dinner.&nbsp\; </font></div><div align="center">&nbsp\; <p class="MsoNormal" style="margin-bottom: 0pt\; mso-pagination: none"><span lang="en-US" style="font-weight: bold\; font-size: 7pt\; color: #009900\; line-height: 125%\; font-family: Arial\; mso-default-font-family: Arial\; mso-ascii-font-family: Arial\; mso-latin-font-family: Arial\; mso-greek-font-family: Arial\; mso-cyrillic-font-family: Arial\; mso-hebrew-font-family: Arial\; mso-arabic-font-family: Arial\; mso-latinext-font-family: Arial\; language: en-US\; mso-ansi-language: en-US">Thank you to our sponsors:<o:p></o:p></span></p><p class="MsoNormal" style="margin-bottom: 0pt\; mso-pagination: none"><span lang="en-US" style="font-size: 7pt\; line-height: 125%\; font-family: Arial\; text-decoration: underline\; mso-default-font-family: Arial\; mso-ascii-font-family: Arial\; mso-latin-font-family: Arial\; mso-greek-font-family: Arial\; mso-cyrillic-font-family: Arial\; mso-hebrew-font-family: Arial\; mso-arabic-font-family: Arial\; mso-latinext-font-family: Arial\; language: en-US\; mso-ansi-language: en-US\; text-underline: single">Eagle Sponsors</span><span lang="en-US" style="font-size: 7pt\; line-height: 125%\; font-family: Arial\; mso-default-font-family: Arial\; mso-ascii-font-family: Arial\; mso-latin-font-family: Arial\; mso-greek-font-family: Arial\; mso-cyrillic-font-family: Arial\; mso-hebrew-font-family: Arial\; mso-arabic-font-family: Arial\; mso-latinext-font-family: Arial\; language: en-US\; mso-ansi-language: en-US">: </span><span lang="en-US" style="font-size: 7pt\; color: #009900\; line-height: 125%\; font-family: Arial\; mso-default-font-family: Arial\; mso-ascii-font-family: Arial\; mso-latin-font-family: Arial\; mso-greek-font-family: Arial\; mso-cyrillic-font-family: Arial\; mso-hebrew-font-family: Arial\; mso-arabic-font-family: Arial\; mso-latinext-font-family: Arial\; language: en-US\; mso-ansi-language: en-US">Cleveland Clinic&mdash\;Brunswick\, FirstMerit Bank\, Liberty Ford of Brunswick&nbsp\;and Medina General Hospital<o:p></o:p></span></p><p class="MsoNormal" style="margin-bottom: 0pt\; mso-pagination: none"><span lang="en-US" style="font-size: 7pt\; line-height: 125%\; font-family: Arial\; text-decoration: underline\; mso-default-font-family: Arial\; mso-ascii-font-family: Arial\; mso-latin-font-family: Arial\; mso-greek-font-family: Arial\; mso-cyrillic-font-family: Arial\; mso-hebrew-font-family: Arial\; mso-arabic-font-family: Arial\; mso-latinext-font-family: Arial\; language: en-US\; mso-ansi-language: en-US\; text-underline: single">Birdie Sponsor</span><span lang="en-US" style="font-size: 7pt\; color: #009900\; line-height: 125%\; font-family: Arial\; mso-default-font-family: Arial\; mso-ascii-font-family: Arial\; mso-latin-font-family: Arial\; mso-greek-font-family: Arial\; mso-cyrillic-font-family: Arial\; mso-hebrew-font-family: Arial\; mso-arabic-font-family: Arial\; mso-latinext-font-family: Arial\; language: en-US\; mso-ansi-language: en-US">: Key Bank<o:p></o:p></span></p><p class="MsoNormal" style="margin-bottom: 0pt\; mso-pagination: none"><span lang="en-US" style="font-size: 7pt\; line-height: 125%\; font-family: Arial\; text-decoration: underline\; mso-default-font-family: Arial\; mso-ascii-font-family: Arial\; mso-latin-font-family: Arial\; mso-greek-font-family: Arial\; mso-cyrillic-font-family: Arial\; mso-hebrew-font-family: Arial\; mso-arabic-font-family: Arial\; mso-latinext-font-family: Arial\; language: en-US\; mso-ansi-language: en-US\; text-underline: single">Cart Sponsors</span><span lang="en-US" style="font-size: 7pt\; line-height: 125%\; font-family: Arial\; mso-default-font-family: Arial\; mso-ascii-font-family: Arial\; mso-latin-font-family: Arial\; mso-greek-font-family: Arial\; mso-cyrillic-font-family: Arial\; mso-hebrew-font-family: Arial\; mso-arabic-font-family: Arial\; mso-latinext-font-family: Arial\; language: en-US\; mso-ansi-language: en-US">: </span><span lang="en-US" style="font-size: 7pt\; color: #009900\; line-height: 125%\; font-family: Arial\; mso-default-font-family: Arial\; mso-ascii-font-family: Arial\; mso-latin-font-family: Arial\; mso-greek-font-family: Arial\; mso-cyrillic-font-family: Arial\; mso-hebrew-font-family: Arial\; mso-arabic-font-family: Arial\; mso-latinext-font-family: Arial\; language: en-US\; mso-ansi-language: en-US">Life Care Center of Medina\,<span style="mso-spacerun: yes">&nbsp\; </span>Dust Control\, Southwest General Health Center and Plum Creek Assisted Living<o:p></o:p></span></p><p class="MsoNormal" style="margin-bottom: 0pt\; mso-pagination: none"><span lang="en-US" style="font-size: 7pt\; line-height: 125%\; font-family: Arial\; text-decoration: underline\; mso-default-font-family: Arial\; mso-ascii-font-family: Arial\; mso-latin-font-family: Arial\; mso-greek-font-family: Arial\; mso-cyrillic-font-family: Arial\; mso-hebrew-font-family: Arial\; mso-arabic-font-family: Arial\; mso-latinext-font-family: Arial\; language: en-US\; mso-ansi-language: en-US\; text-underline: single">Hole/Tee Sponsors</span><span lang="en-US" style="font-size: 7pt\; color: #009900\; line-height: 125%\; font-family: Arial\; mso-default-font-family: Arial\; mso-ascii-font-family: Arial\; mso-latin-font-family: Arial\; mso-greek-font-family: Arial\; mso-cyrillic-font-family: Arial\; mso-hebrew-font-family: Arial\; mso-arabic-font-family: Arial\; mso-latinext-font-family: Arial\; language: en-US\; mso-ansi-language: en-US">:<span style="mso-spacerun: yes">&nbsp\; </span>Comp Management Inc.\, Imperial Pest Control\, Juliann Demand-Balski\,<span style="mso-spacerun: yes">&nbsp\;&nbsp\; </span>Transitional Living Centers\, The Hoffman<span style="mso-spacerun: yes">&nbsp\; </span>Group\, Waite &amp\; Son Funeral\, Shale Creek Golf Club\, Pearlview Care Center\, Millennium Rehabilitation\, Giant Eagle &nbsp\;and Tri-C <o:p></o:p></span></p><p class="MsoNormal" style="margin-bottom: 0pt\; mso-pagination: none"><span lang="en-US" style="font-size: 7pt\; line-height: 125%\; font-family: Arial\; text-decoration: underline\; mso-default-font-family: Arial\; mso-ascii-font-family: Arial\; mso-latin-font-family: Arial\; mso-greek-font-family: Arial\; mso-cyrillic-font-family: Arial\; mso-hebrew-font-family: Arial\; mso-arabic-font-family: Arial\; mso-latinext-font-family: Arial\; language: en-US\; mso-ansi-language: en-US\; text-underline: single">Breakfast Sponsor</span><span lang="en-US" style="font-size: 7pt\; color: #009900\; line-height: 125%\; font-family: Arial\; mso-default-font-family: Arial\; mso-ascii-font-family: Arial\; mso-latin-font-family: Arial\; mso-greek-font-family: Arial\; mso-cyrillic-font-family: Arial\; mso-hebrew-font-family: Arial\; mso-arabic-font-family: Arial\; mso-latinext-font-family: Arial\; language: en-US\; mso-ansi-language: en-US">: First Federal of Lakewood<o:p></o:p></span></p><p class="MsoNormal" style="margin-bottom: 0pt\; mso-pagination: none"><span lang="en-US" style="font-size: 7pt\; line-height: 125%\; font-family: Arial\; text-decoration: underline\; mso-default-font-family: Arial\; mso-ascii-font-family: Arial\; mso-latin-font-family: Arial\; mso-greek-font-family: Arial\; mso-cyrillic-font-family: Arial\; mso-hebrew-font-family: Arial\; mso-arabic-font-family: Arial\; mso-latinext-font-family: Arial\; language: en-US\; mso-ansi-language: en-US\; text-underline: single">Putting Contest</span><span lang="en-US" style="font-size: 7pt\; color: #009900\; line-height: 125%\; font-family: Arial\; mso-default-font-family: Arial\; mso-ascii-font-family: Arial\; mso-latin-font-family: Arial\; mso-greek-font-family: Arial\; mso-cyrillic-font-family: Arial\; mso-hebrew-font-family: Arial\; mso-arabic-font-family: Arial\; mso-latinext-font-family: Arial\; language: en-US\; mso-ansi-language: en-US">: Homestead Insurance Agency<o:p></o:p></span></p><p class="MsoNormal" style="margin-bottom: 0pt\; mso-pagination: none"><span lang="en-US" style="font-size: 7pt\; line-height: 125%\; font-family: Arial\; text-decoration: underline\; mso-default-font-family: Arial\; mso-ascii-font-family: Arial\; mso-latin-font-family: Arial\; mso-greek-font-family: Arial\; mso-cyrillic-font-family: Arial\; mso-hebrew-font-family: Arial\; mso-arabic-font-family: Arial\; mso-latinext-font-family: Arial\; language: en-US\; mso-ansi-language: en-US\; text-underline: single">Golf Ball Sponsor</span><span lang="en-US" style="font-size: 7pt\; color: #009900\; line-height: 125%\; font-family: Arial\; mso-default-font-family: Arial\; mso-ascii-font-family: Arial\; mso-latin-font-family: Arial\; mso-greek-font-family: Arial\; mso-cyrillic-font-family: Arial\; mso-hebrew-font-family: Arial\; mso-arabic-font-family: Arial\; mso-latinext-font-family: Arial\; language: en-US\; mso-ansi-language: en-US">:<span style="mso-spacerun: yes">&nbsp\; </span>Wiant Jewelers<o:p></o:p></span></p><p class="MsoNormal" style="margin-bottom: 0pt\; mso-pagination: none"><span lang="en-US" style="font-size: 7pt\; line-height: 125%\; font-family: Arial\; text-decoration: underline\; mso-default-font-family: Arial\; mso-ascii-font-family: Arial\; mso-latin-font-family: Arial\; mso-greek-font-family: Arial\; mso-cyrillic-font-family: Arial\; mso-hebrew-font-family: Arial\; mso-arabic-font-family: Arial\; mso-latinext-font-family: Arial\; language: en-US\; mso-ansi-language: en-US\; text-underline: single">Ball Drop Sponsor</span><span lang="en-US" style="font-size: 7pt\; color: #009900\; line-height: 125%\; font-family: Arial\; mso-default-font-family: Arial\; mso-ascii-font-family: Arial\; mso-latin-font-family: Arial\; mso-greek-font-family: Arial\; mso-cyrillic-font-family: Arial\; mso-hebrew-font-family: Arial\; mso-arabic-font-family: Arial\; mso-latinext-font-family: Arial\; language: en-US\; mso-ansi-language: en-US">: Cleveland Clinic&mdash\;Brunswick<o:p></o:p></span></p><p class="MsoNormal" style="margin-bottom: 0pt\; mso-pagination: none"><span lang="en-US" style="font-size: 7pt\; line-height: 125%\; font-family: Arial\; text-decoration: underline\; mso-default-font-family: Arial\; mso-ascii-font-family: Arial\; mso-latin-font-family: Arial\; mso-greek-font-family: Arial\; mso-cyrillic-font-family: Arial\; mso-hebrew-font-family: Arial\; mso-arabic-font-family: Arial\; mso-latinext-font-family: Arial\; language: en-US\; mso-ansi-language: en-US\; text-underline: single">Hurricane/Margarita&nbsp\;Station:</span><span lang="en-US" style="font-size: 7pt\; line-height: 125%\; font-family: Arial\; mso-default-font-family: Arial\; mso-ascii-font-family: Arial\; mso-latin-font-family: Arial\; mso-greek-font-family: Arial\; mso-cyrillic-font-family: Arial\; mso-hebrew-font-family: Arial\; mso-arabic-font-family: Arial\; mso-latinext-font-family: Arial\; language: en-US\; mso-ansi-language: en-US"> </span><span lang="en-US" style="font-size: 7pt\; color: #009900\; line-height: 125%\; font-family: Arial\; mso-default-font-family: Arial\; mso-ascii-font-family: Arial\; mso-latin-font-family: Arial\; mso-greek-font-family: Arial\; mso-cyrillic-font-family: Arial\; mso-hebrew-font-family: Arial\; mso-arabic-font-family: Arial\; mso-latinext-font-family: Arial\; language: en-US\; mso-ansi-language: en-US">Bullseye Activewear</span><span lang="en-US" style="font-size: 7pt\; line-height: 125%\; font-family: Arial\; mso-default-font-family: Arial\; mso-ascii-font-family: Arial\; mso-latin-font-family: Arial\; mso-greek-font-family: Arial\; mso-cyrillic-font-family: Arial\; mso-hebrew-font-family: Arial\; mso-arabic-font-family: Arial\; mso-latinext-font-family: Arial\; language: en-US"><o:p></o:p></span></p><p class="MsoNormal" style="mso-pagination: none"><span lang="en-US" style="language: en-US">&nbsp\;<o:p></o:p></span></p>&nbsp\;</div>
LOCATION:Cherokee Hills Golf Course5740 Center RoadValley City\, OH 44280
UID:e.160.765
SEQUENCE:3
DTSTAMP:20260425T200802Z
URL:https://members.nmccalliance.com/events/details/bacc-2009-golf-outing-06-18-2009-765
END:VEVENT

END:VCALENDAR
