BEGIN:VCALENDAR
VERSION:2.0
PRODID:-//ChamberMaster//Event Calendar 2.0//EN
METHOD:PUBLISH
X-PUBLISHED-TTL:P3D
REFRESH-INTERVAL:P3D
CALSCALE:GREGORIAN
BEGIN:VEVENT
DTSTART:20130914T140000Z
DTEND:20130915T000000Z
X-MICROSOFT-CDO-ALLDAYEVENT:FALSE
SUMMARY:BBQ\, Bands and Brew
DESCRIPTION:1st Annual BBQ\, Bands & Brew \n\n	 \n\n	September 14\, 2013 10 am to 8 pm\n\n	 \n\n	 \n\n	Join us!  If you are a band\, business\, brewer or \n\n	BBQ specialist and would like to display your time \n\n	and talents to the Brunswick community\, please\n\n	join us. \n\n	 \n\n	 \n\n	We will join together as a community to enjoy \n\n	some great BBQ\, amazing music and yummy\n\n	 local brews.   Local businesses will have fun \n\n	things to offer to the entire community.  Bring \n\n	the family to Brunswick Town Center \n\n	for our 1st annual...
X-ALT-DESC;FMTTYPE=text/html:<div style="color: rgb(0\, 0\, 0)\; font-family: 'Times New Roman'\; font-size: 1px\; line-height: 1px\;">\n	<font class="size14 Helvetica14" color="#505050" style="font-size: 18px\; font-family: Arial\, Helvetica\, adobe-helvetica\, 'Arial Narrow'\; line-height: 21px\; min-height: 21px\;">1st Annual BBQ\, Bands &amp\; Brew&nbsp\;</font></div>\n<div style="color: rgb(0\, 0\, 0)\; font-family: 'Times New Roman'\; font-size: 1px\; line-height: 1px\;">\n	&nbsp\;</div>\n<div style="color: rgb(0\, 0\, 0)\; font-family: 'Times New Roman'\; font-size: 1px\; line-height: 1px\;">\n	<font class="size11 Helvetica11" color="#505050" style="font-size: 14px\; font-family: Arial\, Helvetica\, adobe-helvetica\, 'Arial Narrow'\; line-height: 16px\; min-height: 16px\;">September 14\, 2013 10 am to 8 pm</font><br />\n	&nbsp\;</div>\n<div style="color: rgb(0\, 0\, 0)\; font-family: 'Times New Roman'\; font-size: 1px\; line-height: 1px\;">\n	&nbsp\;</div>\n<div style="color: rgb(0\, 0\, 0)\; font-family: 'Times New Roman'\; font-size: 1px\; line-height: 1px\;">\n	<font class="size11 Helvetica11" color="#505050" style="font-size: 14px\; font-family: Arial\, Helvetica\, adobe-helvetica\, 'Arial Narrow'\; line-height: 16px\; min-height: 16px\;">Join us! &nbsp\;If you are a band\, business\, brewer or&nbsp\;</font></div>\n<div style="color: rgb(0\, 0\, 0)\; font-family: 'Times New Roman'\; font-size: 1px\; line-height: 1px\;">\n	<font class="size11 Helvetica11" color="#505050" style="font-size: 14px\; font-family: Arial\, Helvetica\, adobe-helvetica\, 'Arial Narrow'\; line-height: 16px\; min-height: 16px\;">BBQ specialist and would like to display your time&nbsp\;</font></div>\n<div style="color: rgb(0\, 0\, 0)\; font-family: 'Times New Roman'\; font-size: 1px\; line-height: 1px\;">\n	<font class="size11 Helvetica11" color="#505050" style="font-size: 14px\; font-family: Arial\, Helvetica\, adobe-helvetica\, 'Arial Narrow'\; line-height: 16px\; min-height: 16px\;">and talents to the Brunswick community\, please</font></div>\n<div style="color: rgb(0\, 0\, 0)\; font-family: 'Times New Roman'\; font-size: 1px\; line-height: 1px\;">\n	<font class="size11 Helvetica11" color="#505050" style="font-size: 14px\; font-family: Arial\, Helvetica\, adobe-helvetica\, 'Arial Narrow'\; line-height: 16px\; min-height: 16px\;">join us.&nbsp\;</font><br />\n	&nbsp\;</div>\n<div style="color: rgb(0\, 0\, 0)\; font-family: 'Times New Roman'\; font-size: 1px\; line-height: 1px\;">\n	&nbsp\;</div>\n<div style="color: rgb(0\, 0\, 0)\; font-family: 'Times New Roman'\; font-size: 1px\; line-height: 1px\;">\n	<font class="size11 Helvetica11" color="#505050" style="font-size: 14px\; font-family: Arial\, Helvetica\, adobe-helvetica\, 'Arial Narrow'\; line-height: 16px\; min-height: 16px\;">We will join together as a community to enjoy&nbsp\;</font></div>\n<div style="color: rgb(0\, 0\, 0)\; font-family: 'Times New Roman'\; font-size: 1px\; line-height: 1px\;">\n	<font class="size11 Helvetica11" color="#505050" style="font-size: 14px\; font-family: Arial\, Helvetica\, adobe-helvetica\, 'Arial Narrow'\; line-height: 16px\; min-height: 16px\;">some great BBQ\, amazing music and yummy</font></div>\n<div style="color: rgb(0\, 0\, 0)\; font-family: 'Times New Roman'\; font-size: 1px\; line-height: 1px\;">\n	<font class="size11 Helvetica11" color="#505050" style="font-size: 14px\; font-family: Arial\, Helvetica\, adobe-helvetica\, 'Arial Narrow'\; line-height: 16px\; min-height: 16px\;">&nbsp\;local&nbsp\;brews. &nbsp\; Local businesses will have fun&nbsp\;</font></div>\n<div style="color: rgb(0\, 0\, 0)\; font-family: 'Times New Roman'\; font-size: 1px\; line-height: 1px\;">\n	<font class="size11 Helvetica11" color="#505050" style="font-size: 14px\; font-family: Arial\, Helvetica\, adobe-helvetica\, 'Arial Narrow'\; line-height: 16px\; min-height: 16px\;">things to offer to the entire community. &nbsp\;Bring&nbsp\;</font></div>\n<div style="color: rgb(0\, 0\, 0)\; font-family: 'Times New Roman'\; font-size: 1px\; line-height: 1px\;">\n	<font class="size11 Helvetica11" color="#505050" style="font-size: 14px\; font-family: Arial\, Helvetica\, adobe-helvetica\, 'Arial Narrow'\; line-height: 16px\; min-height: 16px\;">the family to&nbsp\;Brunswick Town Center&nbsp\;</font></div>\n<div style="color: rgb(0\, 0\, 0)\; font-family: 'Times New Roman'\; font-size: 1px\; line-height: 1px\;">\n	<font class="size11 Helvetica11" color="#505050" style="font-size: 14px\; font-family: Arial\, Helvetica\, adobe-helvetica\, 'Arial Narrow'\; line-height: 16px\; min-height: 16px\;">for our 1st annual...</font></div>\n<div>\n	&nbsp\;</div>\n
LOCATION:Brunswick Town Center
UID:e.160.1966
SEQUENCE:3
DTSTAMP:20260421T215530Z
URL:https://members.nmccalliance.com/events/details/bbq-bands-and-brew-09-14-2013-1966
END:VEVENT

END:VCALENDAR
