BEGIN:VCALENDAR
VERSION:2.0
PRODID:-//ChamberMaster//Event Calendar 2.0//EN
METHOD:PUBLISH
X-PUBLISHED-TTL:P3D
REFRESH-INTERVAL:P3D
CALSCALE:GREGORIAN
BEGIN:VEVENT
DTSTART:20131129T080000Z
DTEND:20131130T020000Z
X-MICROSOFT-CDO-ALLDAYEVENT:FALSE
SUMMARY:Black Friday Super Sale at Corder's Jewelers
DESCRIPTION:**** Come and See US****** We will be open BLACK FRIDAY at 3:00AM!!!!!! We will be offering 30%-60% discounts on select pieces. We will also be offering our Corder's Bucks\, for every $300.00 you spend we will give you $100.00 back in Corder's Bucks to use on future purchases!!! Stuff yourself with turkey and then come and spend the night with us!!!! Corder's Jewelers\, where your dreams come true!!!
X-ALT-DESC;FMTTYPE=text/html:<span class="userContent">**** Come and See US****** We will be open BLACK FRIDAY at 3:00AM!!!!!! We will be offering 30%-60% discounts on select pieces. We will also be offering our Corder&#39\;s Bucks\, for every $300.00 you spend we will give you $100.00 back in Corder&#39\;s Bucks to use on future purchases!!! Stuff yourself with turkey and then come and spend the night with us!!!! Corder&#39\;s Jewelers\, where your dreams come true!!!</span>
LOCATION:3841 Center Road\, Brunswick Ohio
UID:e.160.2021
SEQUENCE:3
DTSTAMP:20260421T202046Z
URL:https://members.nmccalliance.com/events/details/black-friday-super-sale-at-corder-s-jewelers-11-29-2013-2021
END:VEVENT

END:VCALENDAR
