BEGIN:VCALENDAR
VERSION:2.0
PRODID:-//ChamberMaster//Event Calendar 2.0//EN
METHOD:PUBLISH
X-PUBLISHED-TTL:P3D
REFRESH-INTERVAL:P3D
CALSCALE:GREGORIAN
BEGIN:VEVENT
DTSTART;VALUE=DATE:20100617
DTEND;VALUE=DATE:20100618
TRANSP:TRANSPARENT
X-MICROSOFT-CDO-ALLDAYEVENT:TRUE
SUMMARY:Bob Evan's Support Relay
DESCRIPTION:
X-ALT-DESC;FMTTYPE=text/html:
LOCATION:
UID:e.160.1079
SEQUENCE:3
DTSTAMP:20260425T011601Z
URL:https://members.nmccalliance.com/events/details/bob-evan-s-support-relay-06-17-2010-1079
END:VEVENT

END:VCALENDAR
