BEGIN:VCALENDAR
VERSION:2.0
PRODID:-//ChamberMaster//Event Calendar 2.0//EN
METHOD:PUBLISH
X-PUBLISHED-TTL:P3D
REFRESH-INTERVAL:P3D
CALSCALE:GREGORIAN
BEGIN:VEVENT
DTSTART:20110326T140000Z
DTEND:20110326T170000Z
X-MICROSOFT-CDO-ALLDAYEVENT:FALSE
SUMMARY:Bring on Brunswick and Health Fair - 2011
DESCRIPTION:Join the Brunswick Area Chamber of Commerce and Cuyahoga Community College at the 2011 Bring on Brunswick & Health Fair!  The event is open to the public from 10am-1pm on Saturday\, March 26.  Come walk around the vendor booths\, watch a performance in the gym\, and share in the Brunswick spirit! \n\n	\n\n	It's free to attend the event\, but we're asking everyone to bring in a canned food item to support the Brunswick Food Pantry. \n\n	\n\n	Hope to see you there!
X-ALT-DESC;FMTTYPE=text/html:<p>\n	Join the <a href="http://www.brunswickareachamber.org">Brunswick Area Chamber of Commerce</a> and <a href="http://www.tri-c.edu/campuses/brunswick/Pages/Home.aspx">Cuyahoga Community College</a> at the 2011 Bring on Brunswick &amp\; Health Fair!&nbsp\; The event is open to the public from 10am-1pm on Saturday\, March 26.&nbsp\; Come walk around the vendor booths\, watch a performance in the gym\, and share in the Brunswick spirit!&nbsp\;<br />\n	<br />\n	It&#39\;s free to attend the event\, but we&#39\;re asking everyone to bring in&nbsp\;a canned food item to support the Brunswick Food Pantry.&nbsp\;<br />\n	<br />\n	Hope to see you there!</p>\n
LOCATION:Brunswick High School 3581 Center Rd. Brunswick\, OH 44212
UID:e.160.1307
SEQUENCE:3
DTSTAMP:20260423T234745Z
URL:https://members.nmccalliance.com/events/details/bring-on-brunswick-and-health-fair-2011-03-26-2011-1307
END:VEVENT

END:VCALENDAR
