BEGIN:VCALENDAR
VERSION:2.0
PRODID:-//ChamberMaster//Event Calendar 2.0//EN
METHOD:PUBLISH
X-PUBLISHED-TTL:P3D
REFRESH-INTERVAL:P3D
CALSCALE:GREGORIAN
BEGIN:VEVENT
DTSTART:20140322T140000Z
DTEND:20140322T180000Z
X-MICROSOFT-CDO-ALLDAYEVENT:FALSE
SUMMARY:Bring on Brunswick Business Showcase & Health Fair 2014
DESCRIPTION:Bring on Brunswick  \n\n    Business Showcase  & Health Fair 2014
X-ALT-DESC;FMTTYPE=text/html:<span style="font-size:16px\;"><strong><span style="color: rgb(47\, 79\, 79)\;">Bring on</span><span style="color:#2f4f4f\;">&nbsp\;Brunswick &nbsp\;<br />\n&nbsp\; &nbsp\; Business Showcase &nbsp\;&amp\; Health Fair 2014</span></strong></span>
LOCATION:Brunswick High School East Entrance 3581 Center Road Brunswick\, Ohio 44212
UID:e.160.2061
SEQUENCE:3
DTSTAMP:20260421T125749Z
URL:https://members.nmccalliance.com/events/details/bring-on-brunswick-business-showcase-health-fair-2014-03-22-2014-2061
END:VEVENT

END:VCALENDAR
