BEGIN:VCALENDAR
VERSION:2.0
PRODID:-//ChamberMaster//Event Calendar 2.0//EN
METHOD:PUBLISH
X-PUBLISHED-TTL:P3D
REFRESH-INTERVAL:P3D
CALSCALE:GREGORIAN
BEGIN:VEVENT
DTSTART:20120306T140000Z
DTEND:20120306T153000Z
X-MICROSOFT-CDO-ALLDAYEVENT:FALSE
SUMMARY:Bring on Brunswick - Exhibitor's Workshop 2012
DESCRIPTION:Those businesses participating in Bring on Brunswick 2012 are required to attend one of three exhibitor's workshop in order to educate them on how to get the most out of BoB.
X-ALT-DESC;FMTTYPE=text/html:Those businesses participating in Bring on Brunswick 2012 are required to attend&nbsp\;one of three&nbsp\;exhibitor&#39\;s workshop in order to educate them on how to get the most out of BoB.&nbsp\; 
LOCATION:The Brunswick Area Chamber of Commerce Office 1434 Town Center Blvd. Ste. C50 Brunswick\, OH 44212
UID:e.160.1719
SEQUENCE:3
DTSTAMP:20260423T033036Z
URL:https://members.nmccalliance.com/events/details/bring-on-brunswick-exhibitor-s-workshop-2012-03-06-2012-1719
END:VEVENT

END:VCALENDAR
