BEGIN:VCALENDAR
VERSION:2.0
PRODID:-//ChamberMaster//Event Calendar 2.0//EN
METHOD:PUBLISH
X-PUBLISHED-TTL:P3D
REFRESH-INTERVAL:P3D
CALSCALE:GREGORIAN
BEGIN:VEVENT
DTSTART:20090328T150000Z
DTEND:20090328T190000Z
X-MICROSOFT-CDO-ALLDAYEVENT:FALSE
SUMMARY:Bring On Brunswick & Health Fair!
DESCRIPTION:Tri - C  presents Bring On Brunswick &  Health Fair! Saturday\, March 28\, 2009\, 11:00 AM to 3:00 PM Brunswick High School - East 3637 Center Road\, Brunswick Be part of the top businesses in the area showcasing at this event.Includes food vendors\, entertainment and demonstrations!Over 3\,500 people attended last year!  Hosted by:The City of BrunswickThe Brunswick Area Chamber of Commerce
X-ALT-DESC;FMTTYPE=text/html:<div align="center"><font color="#339966" size="5">Tri - C </font></div><div align="center">&nbsp\;</div><div align="center"><font color="#339966" size="5">presents</font></div><div align="center">&nbsp\;</div><div align="center"><font color="#339966" size="5">Bring On Brunswick &amp\;&nbsp\; Health Fair!</font></div><div>&nbsp\;</div><div align="center"><font color="#0000ff" size="4">Saturday\, March 28\, 2009\, 11:00 AM to 3:00 PM</font></div><div align="center">&nbsp\;</div><div align="center"><font size="3">Brunswick High School - East</font></div><div align="center"><div align="center">&nbsp\;</div><font size="3">3637 Center Road\, Brunswick</font></div><div>&nbsp\;</div><div align="center">Be part of the top businesses in the area showcasing at this event.</div><div align="center">Includes food vendors\, entertainment and demonstrations!</div><div align="center">Over 3\,500 people attended last year!</div><div>&nbsp\;</div><div>&nbsp\;</div><div align="center">Hosted by:</div><div align="center"><font color="#ff0000">The City of Brunswick</font></div><div align="center"><font color="#ff0000">The Brunswick Area Chamber of Commerce</font></div><div>&nbsp\;</div>
LOCATION:Brunswick High School - East3637 Center RoadBrunswick OH 44212
UID:e.160.595
SEQUENCE:3
DTSTAMP:20260426T004002Z
URL:https://members.nmccalliance.com/events/details/bring-on-brunswick-health-fair-03-28-2009-595
END:VEVENT

END:VCALENDAR
