BEGIN:VCALENDAR
VERSION:2.0
PRODID:-//ChamberMaster//Event Calendar 2.0//EN
METHOD:PUBLISH
X-PUBLISHED-TTL:P3D
REFRESH-INTERVAL:P3D
CALSCALE:GREGORIAN
BEGIN:VEVENT
DTSTART:20110210T143000Z
DTEND:20110210T163000Z
X-MICROSOFT-CDO-ALLDAYEVENT:FALSE
SUMMARY:Bring on Brunswick Meeting
DESCRIPTION:Planning for the upcoming 2011 Bring on Brunswick event on Saturday\, March 26\, 2011.
X-ALT-DESC;FMTTYPE=text/html:Planning for the upcoming 2011 Bring on Brunswick event on Saturday\, March 26\, 2011.&nbsp\; 
LOCATION:BACC Office/COSE Business Space
UID:e.160.1300
SEQUENCE:3
DTSTAMP:20260424T005740Z
URL:https://members.nmccalliance.com/events/details/bring-on-brunswick-meeting-02-10-2011-1300
END:VEVENT

END:VCALENDAR
