BEGIN:VCALENDAR
VERSION:2.0
PRODID:-//ChamberMaster//Event Calendar 2.0//EN
METHOD:PUBLISH
X-PUBLISHED-TTL:P3D
REFRESH-INTERVAL:P3D
CALSCALE:GREGORIAN
BEGIN:VEVENT
DTSTART:20110414T213000Z
DTEND:20110415T000000Z
X-MICROSOFT-CDO-ALLDAYEVENT:FALSE
SUMMARY:Bring on Brunswick Wrap-up Meeting
DESCRIPTION:
X-ALT-DESC;FMTTYPE=text/html:
LOCATION:The Grille
UID:e.160.1620
SEQUENCE:3
DTSTAMP:20260423T215428Z
URL:https://members.nmccalliance.com/events/details/bring-on-brunswick-wrap-up-meeting-04-14-2011-1620
END:VEVENT

END:VCALENDAR
