BEGIN:VCALENDAR
VERSION:2.0
PRODID:-//ChamberMaster//Event Calendar 2.0//EN
METHOD:PUBLISH
X-PUBLISHED-TTL:P3D
REFRESH-INTERVAL:P3D
CALSCALE:GREGORIAN
BEGIN:VEVENT
DTSTART:20100924T180000Z
DTEND:20100924T210000Z
X-MICROSOFT-CDO-ALLDAYEVENT:FALSE
SUMMARY:Brunswick Area Chamber of Commerce and COSE Grand Opening
DESCRIPTION:Hosted by Brunswick Area Chamber of Commerce and COSE.
X-ALT-DESC;FMTTYPE=text/html:Hosted by Brunswick Area Chamber of Commerce and COSE.
LOCATION:1434 Town Center Blvd Ste C50 Brunswick OH 44212
UID:e.160.1290
SEQUENCE:3
DTSTAMP:20260424T202941Z
URL:https://members.nmccalliance.com/events/details/brunswick-area-chamber-of-commerce-and-cose-grand-opening-09-24-2010-1290
END:VEVENT

END:VCALENDAR
