BEGIN:VCALENDAR
VERSION:2.0
PRODID:-//ChamberMaster//Event Calendar 2.0//EN
METHOD:PUBLISH
X-PUBLISHED-TTL:P3D
REFRESH-INTERVAL:P3D
CALSCALE:GREGORIAN
BEGIN:VEVENT
DTSTART;VALUE=DATE:20100201
DTEND;VALUE=DATE:20100501
TRANSP:TRANSPARENT
X-MICROSOFT-CDO-ALLDAYEVENT:TRUE
SUMMARY:Brunswick Art Works Art Show
DESCRIPTION:
X-ALT-DESC;FMTTYPE=text/html:
LOCATION:
UID:e.160.1050
SEQUENCE:3
DTSTAMP:20260425T043034Z
URL:https://members.nmccalliance.com/events/details/brunswick-art-works-art-show-02-01-2010-1050
END:VEVENT

END:VCALENDAR
