BEGIN:VCALENDAR
VERSION:2.0
PRODID:-//ChamberMaster//Event Calendar 2.0//EN
METHOD:PUBLISH
X-PUBLISHED-TTL:P3D
REFRESH-INTERVAL:P3D
CALSCALE:GREGORIAN
BEGIN:VEVENT
DTSTART:20090625T180000Z
DTEND:20090629T010000Z
X-MICROSOFT-CDO-ALLDAYEVENT:FALSE
SUMMARY:Brunswick Old Fashioned Days Festival
DESCRIPTION:Largest festival in Medina County featuring rides\, live entertainment\, games\, prizes\, fireworks and food.
X-ALT-DESC;FMTTYPE=text/html:Largest festival in Medina County featuring rides\, live entertainment\, games\, prizes\, fireworks and food.
LOCATION:On the grounds of Brunswick High School\, 3581 Center Road\, Brunswick OH.
UID:e.160.794
SEQUENCE:3
DTSTAMP:20260425T214439Z
URL:https://members.nmccalliance.com/events/details/brunswick-old-fashioned-days-festival-06-25-2009-794
END:VEVENT

END:VCALENDAR
