BEGIN:VCALENDAR
VERSION:2.0
PRODID:-//ChamberMaster//Event Calendar 2.0//EN
METHOD:PUBLISH
X-PUBLISHED-TTL:P3D
REFRESH-INTERVAL:P3D
CALSCALE:GREGORIAN
BEGIN:VEVENT
DTSTART;VALUE=DATE:20131115
DTEND;VALUE=DATE:20140103
TRANSP:TRANSPARENT
X-MICROSOFT-CDO-ALLDAYEVENT:TRUE
SUMMARY:Brunswick Subaru 'Share the Love' event
DESCRIPTION:Brunswick Subaru Chooses Feeding Medina County as its local charity for their 'Share the Love' event.  The 'Share the Love' event starts November 21st and will run through January 2\, 2014.  For every Subaru purchased Subaru will donate $250.00 to the Charity.  Customers will have the choice of five national charities or the local designated charity Feeding Medina County.    As part of the campaign Brunswick Subaru will feature a 'Pack the Outback'  food collection.  On December 7th at 11am dancers from Dance House will perform Holiday favorites.
X-ALT-DESC;FMTTYPE=text/html:<span style="color: rgb(0\, 0\, 0)\; font-family: Arial\, Helvetica\, sans-serif\, 'MS Sans Serif'\;">Brunswick&nbsp\;</span><strong style="color: rgb(0\, 0\, 0)\; font-family: Arial\, Helvetica\, sans-serif\, 'MS Sans Serif'\;">Subaru&nbsp\;</strong><span style="color: rgb(0\, 0\, 0)\; font-family: Arial\, Helvetica\, sans-serif\, 'MS Sans Serif'\;">Chooses&nbsp\;</span><strong style="color: rgb(0\, 0\, 0)\; font-family: Arial\, Helvetica\, sans-serif\, 'MS Sans Serif'\;">Feeding Medina County</strong><span style="color: rgb(0\, 0\, 0)\; font-family: Arial\, Helvetica\, sans-serif\, 'MS Sans Serif'\;">&nbsp\;as its local charity for their&nbsp\;</span><strong style="color: rgb(0\, 0\, 0)\; font-family: Arial\, Helvetica\, sans-serif\, 'MS Sans Serif'\;">&#39\;Share the Love&#39\;&nbsp\;</strong><span style="color: rgb(0\, 0\, 0)\; font-family: Arial\, Helvetica\, sans-serif\, 'MS Sans Serif'\;">event. &nbsp\;The &#39\;Share the Love&#39\; event starts November 21st and will run through January 2\, 2014. &nbsp\;For every Subaru purchased Subaru will donate $250.00 to the Charity. &nbsp\;Customers will have the choice of five national charities or the local designated charity Feeding Medina County. &nbsp\; &nbsp\;As part of the campaign Brunswick Subaru will feature a &#39\;Pack the Outback&#39\; &nbsp\;food collection. &nbsp\;On December 7th at 11am dancers from Dance House will perform Holiday favorites. &nbsp\;</span>
LOCATION:3015 Center Rd.\, Brunswick
UID:e.160.2020
SEQUENCE:3
DTSTAMP:20260421T154152Z
URL:https://members.nmccalliance.com/events/details/brunswick-subaru-share-the-love-event-11-15-2013-2020
END:VEVENT

END:VCALENDAR
