BEGIN:VCALENDAR
VERSION:2.0
PRODID:-//ChamberMaster//Event Calendar 2.0//EN
METHOD:PUBLISH
X-PUBLISHED-TTL:P3D
REFRESH-INTERVAL:P3D
CALSCALE:GREGORIAN
BEGIN:VEVENT
DTSTART:20100521T150000Z
DTEND:20100521T200000Z
X-MICROSOFT-CDO-ALLDAYEVENT:FALSE
SUMMARY:Buehler's Support Relay
DESCRIPTION:
X-ALT-DESC;FMTTYPE=text/html:
LOCATION:
UID:e.160.1080
SEQUENCE:3
DTSTAMP:20260425T025143Z
URL:https://members.nmccalliance.com/events/details/buehler-s-support-relay-05-21-2010-1080
END:VEVENT

END:VCALENDAR
