BEGIN:VCALENDAR
VERSION:2.0
PRODID:-//ChamberMaster//Event Calendar 2.0//EN
METHOD:PUBLISH
X-PUBLISHED-TTL:P3D
REFRESH-INTERVAL:P3D
CALSCALE:GREGORIAN
BEGIN:VEVENT
DTSTART;VALUE=DATE:20100625
DTEND;VALUE=DATE:20100626
TRANSP:TRANSPARENT
X-MICROSOFT-CDO-ALLDAYEVENT:TRUE
SUMMARY:Bunker Hill Golf Outing
DESCRIPTION:
X-ALT-DESC;FMTTYPE=text/html:
LOCATION:
UID:e.160.1063
SEQUENCE:3
DTSTAMP:20260425T011455Z
URL:https://members.nmccalliance.com/events/details/bunker-hill-golf-outing-06-25-2010-1063
END:VEVENT

END:VCALENDAR
