BEGIN:VCALENDAR
VERSION:2.0
PRODID:-//ChamberMaster//Event Calendar 2.0//EN
METHOD:PUBLISH
X-PUBLISHED-TTL:P3D
REFRESH-INTERVAL:P3D
CALSCALE:GREGORIAN
BEGIN:VEVENT
DTSTART:20090624T203000Z
DTEND:20090624T223000Z
X-MICROSOFT-CDO-ALLDAYEVENT:FALSE
SUMMARY:Business after Business
DESCRIPTION:Business after BusinessHosted byCharter One Bank & Winking LizardWednesday\, June 24\, 2009from 4:30 to 6:30 pmAt the Winking Lizard3634 Center Road\, BrunswickFood & Drink ProvidedJoin us at this networking event and share your ideas for success in our economy.
X-ALT-DESC;FMTTYPE=text/html:<p align="center"><font size="3">Business after Business</font></p><p align="center"><font size="3">Hosted by</font></p><p align="center"><font size="3">Charter One Bank &amp\; Winking Lizard</font></p><p align="center"><font size="3">Wednesday\, June 24\, 2009</font></p><p align="center"><font size="3">from 4:30 to 6:30 pm</font></p><p align="center"><font size="3">At the Winking Lizard</font></p><p align="center"><font size="3">3634 Center Road\, Brunswick</font></p><p align="center"><font size="3">Food &amp\; Drink Provided</font></p><div align="center"><font size="3">Join us at this networking event </font></div><div align="center"><font size="3">and share your ideas for success in our economy.</font></div>
LOCATION:The Winking Lizard3634 Center RoadBrunswick\, OH 44212
UID:e.160.807
SEQUENCE:3
DTSTAMP:20260425T201037Z
URL:https://members.nmccalliance.com/events/details/business-after-business-06-24-2009-807
END:VEVENT

END:VCALENDAR
