BEGIN:VCALENDAR
VERSION:2.0
PRODID:-//ChamberMaster//Event Calendar 2.0//EN
METHOD:PUBLISH
X-PUBLISHED-TTL:P3D
REFRESH-INTERVAL:P3D
CALSCALE:GREGORIAN
BEGIN:VEVENT
DTSTART:20090729T203000Z
DTEND:20090729T223000Z
X-MICROSOFT-CDO-ALLDAYEVENT:FALSE
SUMMARY:Business After Business
DESCRIPTION:Join us for a mini vacationat the tropical themed July Business after BusinessWeds\, July 29th from 4:30 to 6:30 pmHosted by HealthSource & Old World Deli1659 Pearl Road\, Brunswick Food\, Fun\, Networking & PrizesComplimentary Chair Massages
X-ALT-DESC;FMTTYPE=text/html:<div>&nbsp\; <p class="MsoNormal" style="margin-bottom: 0pt\; text-align: center\; mso-pagination: none"><span style="font-size: medium"><span lang="en-US" style="font-weight: bold\; color: #3333cc\; line-height: 125%\; font-family: Verdana\; language: en-US\; mso-ansi-language: en-US">Join us for a mini vacation</span></span><span lang="en-US" style="font-weight: bold\; font-size: 6pt\; color: #3333cc\; line-height: 125%\; font-family: Verdana\; language: en-US\; mso-ansi-language: en-US"><o:p></o:p></span></p><p class="MsoNormal" style="margin-bottom: 0pt\; text-align: center\; mso-pagination: none"><span style="font-size: medium"><span lang="en-US" style="font-weight: bold\; color: #3333cc\; line-height: 125%\; font-family: Verdana\; language: en-US\; mso-ansi-language: en-US">at the tropical themed</span></span><span lang="en-US" style="font-weight: bold\; font-size: 6pt\; color: #3333cc\; line-height: 125%\; font-family: Verdana\; language: en-US\; mso-ansi-language: en-US"><o:p></o:p></span></p><p class="MsoNormal" style="margin-bottom: 0pt\; text-align: center\; mso-pagination: none"><span style="font-size: medium"><span lang="en-US" style="font-weight: bold\; color: #3333cc\; line-height: 125%\; font-family: Verdana\; language: en-US\; mso-ansi-language: en-US"><span style="mso-spacerun: yes">&nbsp\;</span></span><span lang="en-US" style="font-weight: bold\; color: #ff9933\; line-height: 125%\; font-family: Verdana\; language: en-US\; mso-ansi-language: en-US">July Business after Business</span></span><span lang="en-US" style="font-weight: bold\; font-size: 6pt\; color: #3333cc\; line-height: 125%\; font-family: Verdana\; language: en-US\; mso-ansi-language: en-US"><o:p></o:p></span></p><p class="MsoNormal" style="margin-bottom: 0pt\; text-align: center\; mso-pagination: none"><span style="font-size: medium"><span lang="en-US" style="font-weight: bold\; color: #009900\; line-height: 125%\; font-family: Verdana\; language: en-US\; mso-ansi-language: en-US">Weds\, July 29th from 4:30 to 6:30 pm</span></span><span lang="en-US" style="font-weight: bold\; font-size: 6pt\; color: #009900\; line-height: 125%\; font-family: Verdana\; language: en-US\; mso-ansi-language: en-US"><o:p></o:p></span></p><p class="MsoNormal" style="margin-bottom: 0pt\; text-align: center\; mso-pagination: none"><span style="font-size: medium"><span lang="en-US" style="font-weight: bold\; color: #3333cc\; line-height: 125%\; font-family: Verdana\; language: en-US\; mso-ansi-language: en-US">Hosted by </span></span><span lang="en-US" style="font-weight: bold\; font-size: 6pt\; color: #3333cc\; line-height: 125%\; font-family: Verdana\; language: en-US\; mso-ansi-language: en-US"><o:p></o:p></span></p><p class="MsoNormal" style="margin-bottom: 0pt\; text-align: center\; mso-pagination: none"><span style="font-size: medium"><span lang="en-US" style="font-weight: bold\; color: purple\; line-height: 125%\; font-family: Verdana\; language: en-US\; mso-ansi-language: en-US">HealthSource &amp\; Old World Deli</span></span><span lang="en-US" style="font-weight: bold\; font-size: 6pt\; color: purple\; line-height: 125%\; font-family: Verdana\; language: en-US\; mso-ansi-language: en-US"><o:p></o:p></span></p><p class="MsoNormal" style="margin-bottom: 0pt\; text-align: center\; mso-pagination: none"><span style="font-size: medium"><span lang="en-US" style="font-weight: bold\; color: #3333cc\; line-height: 125%\; font-family: Verdana\; language: en-US\; mso-ansi-language: en-US">1659 Pearl Road\, Brunswick</span></span><span lang="en-US" style="font-weight: bold\; font-size: 6pt\; color: #3333cc\; line-height: 125%\; font-family: Verdana\; language: en-US\; mso-ansi-language: en-US"><o:p></o:p></span></p><p class="MsoNormal" style="margin-bottom: 0pt\; text-align: center\; mso-pagination: none"><span style="font-size: medium"><span lang="en-US" style="font-weight: bold\; color: #3333cc\; line-height: 125%\; font-family: Verdana\; language: en-US\; mso-ansi-language: en-US">&nbsp\;</span><span lang="en-US" style="font-weight: bold\; color: #3333cc\; line-height: 125%\; font-family: Verdana\; language: en-US\; mso-ansi-language: en-US">Food\, Fun\, Networking &amp\; Prizes</span></span><span lang="en-US" style="font-weight: bold\; font-size: 6pt\; color: #3333cc\; line-height: 125%\; font-family: Verdana\; language: en-US\; mso-ansi-language: en-US"><o:p></o:p></span></p><p class="MsoNormal" style="margin-bottom: 0pt\; text-align: center\; mso-pagination: none"><span style="font-size: medium"><span lang="en-US" style="font-weight: bold\; color: #3333cc\; line-height: 125%\; font-family: Verdana\; language: en-US\; mso-ansi-language: en-US">Complimentary Chair Massages</span></span><span lang="en-US" style="font-weight: bold\; font-size: 6pt\; color: #3333cc\; line-height: 125%\; font-family: Verdana\; language: en-US\; mso-ansi-language: en-US"><o:p></o:p></span></p><p class="MsoNormal" style="mso-pagination: none"><span lang="en-US" style="language: en-US">&nbsp\;<o:p></o:p></span></p></div>
LOCATION:HealthSource 1659 Pearl Road\, Brunswick
UID:e.160.810
SEQUENCE:3
DTSTAMP:20260425T185101Z
URL:https://members.nmccalliance.com/events/details/business-after-business-07-29-2009-810
END:VEVENT

END:VCALENDAR
