BEGIN:VCALENDAR
VERSION:2.0
PRODID:-//ChamberMaster//Event Calendar 2.0//EN
METHOD:PUBLISH
X-PUBLISHED-TTL:P3D
REFRESH-INTERVAL:P3D
CALSCALE:GREGORIAN
BEGIN:VEVENT
DTSTART:20090826T210000Z
DTEND:20090826T230000Z
X-MICROSOFT-CDO-ALLDAYEVENT:FALSE
SUMMARY:Business after Business
DESCRIPTION:*Business After Business*At Key Bank3680 Center Road\, BrunswickThis Wednesday August 26\, 2009 from 5-7 pm Join us for beverages\, hor d'oeuvres and cash prizes! Get your autographed picture taken with Austin Carr\, Basketball Hall of Famer Catered by Madd Chef Bistro & Caf  We are requesting that you register for this event though our website www.brunswickareachamber.org or by calling the Chamber office at 330-225-8411  Thank you to everyone who has already registered!
X-ALT-DESC;FMTTYPE=text/html:<div style="text-align: center">&nbsp\;<div style="margin-bottom: 0pt\; text-align: center"><span style="font-size: small"><span style="font-weight: bold\; color: red\; line-height: 125%\; language: en-US">*Business After Business*</span></span></div><div style="margin-bottom: 0pt\; text-align: center"><span style="font-size: small"><span style="line-height: 125%\; language: en-US">At </span></span></div><div style="margin-bottom: 0pt\; text-align: center"><span style="font-size: small"><span style="font-weight: bold\; line-height: 125%\; language: en-US">Key Bank</span></span></div><div style="margin-bottom: 0pt\; text-align: center"><span style="font-size: small"><span style="line-height: 125%\; language: en-US">3680 Center Road\, Brunswick</span></span></div><div style="margin-bottom: 0pt\; text-align: center"><span style="font-size: small"><span style="font-weight: bold\; color: #cc3300\; line-height: 125%\; language: en-US">This Wednesday</span></span></div><div style="margin-bottom: 0pt\; text-align: center"><span style="font-size: small"><span style="font-weight: bold\; color: #cc3300\; line-height: 125%\; language: en-US">&nbsp\;August 26\, 2009 from 5-7 pm</span></span></div><div style="margin-bottom: 0pt\; text-align: center"><span style="font-size: small">&nbsp\;</span></div><div style="margin-bottom: 0pt\; text-align: center"><span style="font-size: small"><span style="line-height: 125%\; language: en-US">Join us for beverages\, hor d&rsquo\;oeuvres and cash prizes!</span></span></div><div style="margin-bottom: 0pt\; text-align: center"><span style="font-size: small">&nbsp\;</span></div><div style="margin-bottom: 0pt\; text-align: center"><span style="font-size: small"><span style="line-height: 125%\; language: en-US">Get your autographed picture taken with Austin Carr\, Basketball Hall of Famer</span></span></div><div style="margin-bottom: 0pt\; text-align: center"><span style="font-size: small">&nbsp\;</span></div><div style="margin-bottom: 0pt\; text-align: center"><span style="font-size: small"><span style="line-height: 125%\; language: en-US">Catered by Madd Chef Bistro &amp\; Caf&eacute\;</span></span></div><div style="margin-bottom: 0pt\; text-align: center">&nbsp\;</div><div style="margin-bottom: 0pt\; text-align: center"><span style="font-size: small"><span style="line-height: 125%\; language: en-US">We are requesting that you register for this event though our website <a href="http://www.brunswickareachamber.org/">www.brunswickareachamber.org</a> or</span></span></div><div style="margin-bottom: 0pt\; text-align: center"><span style="font-size: small"><span style="line-height: 125%\; language: en-US"> by calling the Chamber office at 330-225-8411</span></span><span style="font-size: small">&nbsp\;</span></div><div style="margin-bottom: 0pt\; text-align: center">&nbsp\;</div><div style="margin-bottom: 0pt\; text-align: center"><span style="font-size: small">Thank you to everyone who has already registered!</span></div></div>
LOCATION:3680 Center Road\, Brunswick
UID:e.160.814
SEQUENCE:3
DTSTAMP:20260425T173002Z
URL:https://members.nmccalliance.com/events/details/business-after-business-08-26-2009-814
END:VEVENT

END:VCALENDAR
