BEGIN:VCALENDAR
VERSION:2.0
PRODID:-//ChamberMaster//Event Calendar 2.0//EN
METHOD:PUBLISH
X-PUBLISHED-TTL:P3D
REFRESH-INTERVAL:P3D
CALSCALE:GREGORIAN
BEGIN:VEVENT
DTSTART:20091028T210000Z
DTEND:20091028T230000Z
X-MICROSOFT-CDO-ALLDAYEVENT:FALSE
SUMMARY:Business after Business
DESCRIPTION:Join us for an evening of networking\, food & fun! Business after Business Wednesday\, October 28\, 20095:00 to 7:00 pmatCleveland Clinic - Brunswick3574 Center Road\, Brunswick
X-ALT-DESC;FMTTYPE=text/html:<div style="text-align: center"><span style="color: #ff0000"><span style="font-size: medium">Join us for an evening of networking\, food &amp\; fun!</span></span></div><div style="text-align: center">&nbsp\;</div><div style="text-align: center"><span style="color: #0000ff"><span><span style="font-size: medium">Business after Business</span></span></span></div><div style="text-align: center">&nbsp\;</div><div style="text-align: center"><span style="color: #0000ff"><span style="font-size: medium">Wednesday\, October 28\, 2009</span></span></div><div style="text-align: center"><span style="color: #0000ff"><span style="font-size: medium">5:00 to 7:00 pm</span></span></div><div style="text-align: center"><span style="color: #0000ff"><span style="font-size: medium">at</span></span></div><div style="text-align: center"><span style="color: #0000ff"><span style="font-size: medium">Cleveland Clinic - Brunswick</span></span></div><div style="text-align: center"><span style="color: #0000ff"><span style="font-size: medium">3574 Center Road\, Brunswick</span></span></div><div style="text-align: center">&nbsp\;</div><div style="text-align: center">&nbsp\;</div><div style="text-align: center">&nbsp\;</div><div style="text-align: center">&nbsp\;</div>
LOCATION:Cleveland Clinic - Brunswick3574 Center Road\, Brunswick
UID:e.160.812
SEQUENCE:3
DTSTAMP:20260425T153539Z
URL:https://members.nmccalliance.com/events/details/business-after-business-10-28-2009-812
END:VEVENT

END:VCALENDAR
