BEGIN:VCALENDAR
VERSION:2.0
PRODID:-//ChamberMaster//Event Calendar 2.0//EN
METHOD:PUBLISH
X-PUBLISHED-TTL:P3D
REFRESH-INTERVAL:P3D
CALSCALE:GREGORIAN
BEGIN:VEVENT
DTSTART:20131112T220000Z
DTEND:20131113T000000Z
X-MICROSOFT-CDO-ALLDAYEVENT:FALSE
SUMMARY:Business after Business
DESCRIPTION:Join us for an evening of networking\, food & fun!\n\n	 \n\n	Business after Business\n\n	Tuesday\, November 12\, 2013\n\n	5:00 to 7:00 pm\n\n	 \n\n	Eileen's Catering - Valley City\n\n	6765 Center Road\n\n	Valley City\, Ohio  44280
X-ALT-DESC;FMTTYPE=text/html:<div style="text-align: center\;">\n	<span style="color: rgb(255\, 0\, 0)\;"><span style="font-size: medium\;">Join us for an evening of networking\, food &amp\; fun!</span></span></div>\n<div style="text-align: center\;">\n	&nbsp\;</div>\n<div style="text-align: center\;">\n	<span style="color: rgb(0\, 0\, 255)\;"><span style="font-size: medium\;">Business after Business</span></span></div>\n<div style="text-align: center\;">\n	<span style="font-size: medium\; color: rgb(0\, 0\, 255)\;">Tuesday\, November 12\, 2013</span><br />\n	<span style="font-size: medium\; color: rgb(0\, 0\, 255)\;">5:00 to 7:00 pm</span></div>\n<div style="text-align: center\;">\n	&nbsp\;</div>\n<div style="text-align: center\;">\n	<span style="color: rgb(0\, 0\, 255)\;"><span style="font-size: medium\;">Eileen&#39\;s Catering - Valley City</span></span></div>\n<div style="text-align: center\;">\n	<span style="color: rgb(0\, 0\, 255)\;"><span style="font-size: medium\;">6765 Center Road<br />\n	Valley City\, Ohio &nbsp\;44280</span></span></div>\n
LOCATION:6765 Center Road Valley City\, Ohio 44280 Located at the historical Steck House
UID:e.160.2006
SEQUENCE:3
DTSTAMP:20260421T182906Z
URL:https://members.nmccalliance.com/events/details/business-after-business-11-12-2013-2006
END:VEVENT

END:VCALENDAR
