BEGIN:VCALENDAR
VERSION:2.0
PRODID:-//ChamberMaster//Event Calendar 2.0//EN
METHOD:PUBLISH
X-PUBLISHED-TTL:P3D
REFRESH-INTERVAL:P3D
CALSCALE:GREGORIAN
BEGIN:VEVENT
DTSTART:20120719T210000Z
DTEND:20120719T230000Z
X-MICROSOFT-CDO-ALLDAYEVENT:FALSE
SUMMARY:Business after Business - July 2012
DESCRIPTION:Business After Business Event\n\n	\n\n	5-7pm\n\n	Thursday\, July 19\n\n	\n\n	Dog Gone Crazy\n\n	4070 Foskett Rd.\n\n	Medina\, OH 44256\n\n	\n\n	Join businesses from the Brunswick Area Chamber for a night of appetizers and drinks. \n\n	Tours of the facility will be available - furry friends welcome!\n\n	\n\n	Free to attend!
X-ALT-DESC;FMTTYPE=text/html:<div style="text-align: center\; ">\n	<br />\n	<span style="font-size:14px\;"><strong>&#8203\;Business After Business Event</strong><br />\n	<br />\n	5-7pm<br />\n	Thursday\, July 19<br />\n	<br />\n	<u>Dog Gone Crazy</u><br />\n	4070 Foskett Rd.<br />\n	Medina\, OH 44256<br />\n	<br />\n	Join businesses from the Brunswick Area Chamber for a night of appetizers and drinks.&nbsp\;<br />\n	Tours of the facility will be available - <em><strong>furry friends welcome</strong></em>!<br />\n	<br />\n	Free to attend!</span><br />\n	&nbsp\;</div>\n
LOCATION:
UID:e.160.1757
SEQUENCE:3
DTSTAMP:20260422T224024Z
URL:https://members.nmccalliance.com/events/details/business-after-business-july-2012-07-19-2012-1757
END:VEVENT

END:VCALENDAR
