BEGIN:VCALENDAR
VERSION:2.0
PRODID:-//ChamberMaster//Event Calendar 2.0//EN
METHOD:PUBLISH
X-PUBLISHED-TTL:P3D
REFRESH-INTERVAL:P3D
CALSCALE:GREGORIAN
BEGIN:VEVENT
DTSTART:20110616T210000Z
DTEND:20110616T230000Z
X-MICROSOFT-CDO-ALLDAYEVENT:FALSE
SUMMARY:Business after Business - June 2011
DESCRIPTION:Business after Business event at The Grille!
X-ALT-DESC;FMTTYPE=text/html:Business after Business event at The Grille!&nbsp\; 
LOCATION:The Grille 1813 Pearl Rd. Brunswick\, OH 44212
UID:e.160.1628
SEQUENCE:3
DTSTAMP:20260423T184256Z
URL:https://members.nmccalliance.com/events/details/business-after-business-june-2011-06-16-2011-1628
END:VEVENT

END:VCALENDAR
