BEGIN:VCALENDAR
VERSION:2.0
PRODID:-//ChamberMaster//Event Calendar 2.0//EN
METHOD:PUBLISH
X-PUBLISHED-TTL:P3D
REFRESH-INTERVAL:P3D
CALSCALE:GREGORIAN
BEGIN:VEVENT
DTSTART:20111026T230000Z
DTEND:20111027T010000Z
X-MICROSOFT-CDO-ALLDAYEVENT:FALSE
SUMMARY:Candidates Forum 2011
DESCRIPTION:The Brunswick Area Chamber of Commerce will be hosting a Brunswick area Candidate Forum for Brunswick and Brunswick Hills candidates running for public office on Wednesday\, October 26\, 2011\, at the Brunswick Recreation & Fitness Center beginning at 7:00 PM. As a candidate for a city council\, township trustee position\, or school board you are cordially invited to participate.
X-ALT-DESC;FMTTYPE=text/html:<span style="font-size: 12px"><span style="language: en-us">The Brunswick Area Chamber of Commerce will </span><span style="language: en-us">be </span><span style="language: en-us">host</span><span style="language: en-us">ing </span><span style="language: en-us">a Brunswick area Candidate </span><span style="language: en-us">Forum for </span><span style="language: en-us">Brunswick and Brunswick Hills </span><span style="language: en-us">candidates running for public office on </span><span style="language: en-us">Wednesday</span><span style="language: en-us">\, October </span><span style="language: en-us">26\, 2011</span><span style="language: en-us">\, at </span><span style="language: en-us">the </span><span style="language: en-us">Brunswick </span><span style="language: en-us">Recreation &amp\; Fitness Center </span><span style="language: en-us">beginning at 7:00 PM. As a candidate for a city council</span><span style="language: en-us">\, </span><span style="language: en-us">township trustee </span><span style="language: en-us">position</span><span style="language: en-us">\, </span><span style="language: en-us">or school board </span><span style="language: en-us">you are cordially invited to participate.</span></span><br />\n&nbsp\;&nbsp\;<br />\n
LOCATION:Brunswick Recreation Center 3637 Center Road Brunswick\, OH 44212
UID:e.160.1688
SEQUENCE:3
DTSTAMP:20260421T103729Z
URL:https://members.nmccalliance.com/events/details/candidates-forum-2011-10-26-2011-1688
END:VEVENT

END:VCALENDAR
