BEGIN:VCALENDAR
VERSION:2.0
PRODID:-//ChamberMaster//Event Calendar 2.0//EN
METHOD:PUBLISH
X-PUBLISHED-TTL:P3D
REFRESH-INTERVAL:P3D
CALSCALE:GREGORIAN
BEGIN:VEVENT
DTSTART:20101104T220000Z
DTEND:20101105T000000Z
X-MICROSOFT-CDO-ALLDAYEVENT:FALSE
SUMMARY:Chamber Charities Wine Tasting
DESCRIPTION:The Event will be hosted at the Cleveland Clinic Family Health Center and organized by Buehler's Fresh Foods\, each attendee will receive 6 sample wines\, an education about the wine and taste appetizers to compliment each wine.  Seats are limited!  Reserve your space after September 23\, 2010.
X-ALT-DESC;FMTTYPE=text/html:The Event will be hosted at the Cleveland Clinic Family Health Center and organized by Buehler&#39\;s&nbsp\;Fresh Foods\, each attendee will receive 6 sample wines\, an education about the wine and taste appetizers to compliment each wine.&nbsp\; Seats are limited!&nbsp\; Reserve your space after September 23\, 2010.&nbsp\; 
LOCATION:Cleveland Clinic Family Health Center in Brunswick
UID:e.160.1291
SEQUENCE:3
DTSTAMP:20260424T190712Z
URL:https://members.nmccalliance.com/events/details/chamber-charities-wine-tasting-11-04-2010-1291
END:VEVENT

END:VCALENDAR
