BEGIN:VCALENDAR
VERSION:2.0
PRODID:-//ChamberMaster//Event Calendar 2.0//EN
METHOD:PUBLISH
X-PUBLISHED-TTL:P3D
REFRESH-INTERVAL:P3D
CALSCALE:GREGORIAN
BEGIN:VEVENT
DTSTART:20210505T110000Z
DTEND:20210505T220000Z
X-MICROSOFT-CDO-ALLDAYEVENT:FALSE
SUMMARY:Chamber Chomps at Coffee in the Valley in Valley City
DESCRIPTION:Our Chamber Chomps featured restaurant on May 5th (Cinco de Mayo) is Coffee in the Valley  located at 6663 Center Rd\, Valley City (as announced on the Northern Medina County Chamber Alliance's Facebook and LinkedIn pages).  Check out their menu for some sweet treats.\n\n \n\nPlease join us anytime between 7 am and 6 pm or order online and show your support.  Stephanie will be offering a special that day - order any sandwich and you receive a beverage at half off.\n\n \n\nThank you and hope you join us!\n\n \n\nShow your support for restaurants in our communities!
X-ALT-DESC;FMTTYPE=text/html:<div style="box-sizing: border-box\; margin: 0px\; padding: 0px\; border: 0px\; outline: 0px\; font-variant-numeric: inherit\; font-variant-east-asian: inherit\; font-stretch: inherit\; font-size: 14px\; line-height: inherit\; vertical-align: baseline\; font-family: Arial\, Verdana\, Helvetica\, sans-serif\; background-color: rgb(255\, 255\, 255)\;"><span style="color: rgb(0\, 0\, 0)\; box-sizing: border-box\; margin: 0px\; padding: 0px\; border: 0px\; outline: 0px\; font-variant: inherit\; font-stretch: inherit\; font-size: 18px\; line-height: inherit\; vertical-align: baseline\; font-family: inherit\; font-style: inherit\; font-weight: inherit\;">Our Chamber Chomps featured restaurant on&nbsp\;May 5th (Cinco de Mayo)&nbsp\;is&nbsp\;</span><span style="color: rgb(0\, 128\, 0)\; box-sizing: border-box\; margin: 0px\; padding: 0px\; border: 0px\; outline: 0px\; font: inherit\; vertical-align: baseline\;"><a href="https://www.coffeeinthevalley.com/"><span style="font-size:20px\;">Coffee in the Valley</span></a>&nbsp\;</span><span style="box-sizing: border-box\; margin: 0px\; padding: 0px\; border: 0px\; outline: 0px\; font: inherit\; vertical-align: baseline\;"><span style="color:#000000\;">&nbsp\;<span style="font-family:arial\;"><span style="font-size:18px\;">located at</span></span></span><font color="#825421">&nbsp\;</font></span><span style="color: rgb(0\, 0\, 0)\; box-sizing: border-box\; margin: 0px\; padding: 0px\; border: 0px\; outline: 0px\; font-variant: inherit\; font-stretch: inherit\; font-size: 18px\; line-height: inherit\; vertical-align: baseline\; font-family: inherit\; font-style: inherit\; font-weight: inherit\;">6663 Center Rd\, Valley City</span><span style="color: rgb(130\, 84\, 33)\; box-sizing: border-box\; margin: 0px\; padding: 0px\; border: 0px\; outline: 0px\; font-variant: inherit\; font-stretch: inherit\; font-size: 18px\; line-height: inherit\; vertical-align: baseline\; font-family: inherit\; font-style: inherit\; font-weight: inherit\;">&nbsp\;</span><span style="color: rgb(0\, 0\, 0)\; box-sizing: border-box\; margin: 0px\; padding: 0px\; border: 0px\; outline: 0px\; font-variant: inherit\; font-stretch: inherit\; font-size: 18px\; line-height: inherit\; vertical-align: baseline\; font-family: inherit\; font-style: inherit\; font-weight: inherit\;">(as announced on the Northern Medina County Chamber Alliance&#39\;s Facebook and LinkedIn </span><span style="color: rgb(0\, 0\, 0)\; box-sizing: border-box\; margin: 0px\; padding: 0px\; border: 0px\; outline: 0px\; font-variant: inherit\; font-stretch: inherit\; font-size: 18px\; line-height: inherit\; vertical-align: baseline\; font-family: inherit\; font-style: inherit\; font-weight: inherit\;">pages).&nbsp\; Check out their menu for some sweet treats.</span></div>\n\n<div style="box-sizing: border-box\; margin: 0px\; padding: 0px\; border: 0px\; outline: 0px\; font-variant-numeric: inherit\; font-variant-east-asian: inherit\; font-stretch: inherit\; font-size: 14px\; line-height: inherit\; vertical-align: baseline\; font-family: Arial\, Verdana\, Helvetica\, sans-serif\; color: rgb(130\, 84\, 33)\; background-color: rgb(255\, 255\, 255)\;">&nbsp\;</div>\n\n<div style="box-sizing: border-box\; margin: 0px\; padding: 0px\; border: 0px\; outline: 0px\; font-variant-numeric: inherit\; font-variant-east-asian: inherit\; font-stretch: inherit\; font-size: 14px\; line-height: inherit\; vertical-align: baseline\; font-family: Arial\, Verdana\, Helvetica\, sans-serif\; color: rgb(130\, 84\, 33)\; background-color: rgb(255\, 255\, 255)\;"><span style="box-sizing: border-box\; margin: 0px\; padding: 0px\; border: 0px\; outline: 0px\; font-variant: inherit\; font-stretch: inherit\; font-size: 18px\; line-height: inherit\; vertical-align: baseline\; font-family: inherit\; font-style: inherit\; font-weight: inherit\; color: rgb(0\, 0\, 0)\;">Please join us anytime between 7 am and 6 pm or order online and show your support.&nbsp\; Stephanie will be offering a special that day&nbsp\;- order any sandwich and&nbsp\;you receive a beverage at half off.</span></div>\n\n<div style="box-sizing: border-box\; margin: 0px\; padding: 0px\; border: 0px\; outline: 0px\; font-variant-numeric: inherit\; font-variant-east-asian: inherit\; font-stretch: inherit\; font-size: 14px\; line-height: inherit\; vertical-align: baseline\; font-family: Arial\, Verdana\, Helvetica\, sans-serif\; color: rgb(130\, 84\, 33)\; background-color: rgb(255\, 255\, 255)\;">&nbsp\;</div>\n\n<div style="box-sizing: border-box\; margin: 0px\; padding: 0px\; border: 0px\; outline: 0px\; font-variant-numeric: inherit\; font-variant-east-asian: inherit\; font-stretch: inherit\; font-size: 14px\; line-height: inherit\; vertical-align: baseline\; font-family: Arial\, Verdana\, Helvetica\, sans-serif\; color: rgb(130\, 84\, 33)\; background-color: rgb(255\, 255\, 255)\;"><span style="box-sizing: border-box\; margin: 0px\; padding: 0px\; border: 0px\; outline: 0px\; font-variant: inherit\; font-stretch: inherit\; font-size: 18px\; line-height: inherit\; vertical-align: baseline\; font-family: inherit\; font-style: inherit\; font-weight: inherit\; color: rgb(0\, 0\, 0)\;">Thank you and hope you join us!</span></div>\n\n<div style="box-sizing: border-box\; margin: 0px\; padding: 0px\; border: 0px\; outline: 0px\; font-variant-numeric: inherit\; font-variant-east-asian: inherit\; font-stretch: inherit\; font-size: 14px\; line-height: inherit\; vertical-align: baseline\; font-family: Arial\, Verdana\, Helvetica\, sans-serif\; color: rgb(130\, 84\, 33)\; background-color: rgb(255\, 255\, 255)\;">&nbsp\;</div>\n\n<div style="box-sizing: border-box\; margin: 0px\; padding: 0px\; border: 0px\; outline: 0px\; font-variant-numeric: inherit\; font-variant-east-asian: inherit\; font-stretch: inherit\; font-size: 14px\; line-height: inherit\; vertical-align: baseline\; font-family: Arial\, Verdana\, Helvetica\, sans-serif\; color: rgb(130\, 84\, 33)\; background-color: rgb(255\, 255\, 255)\;"><span style="box-sizing: border-box\; margin: 0px\; padding: 0px\; border: 0px\; outline: 0px\; font-variant: inherit\; font-stretch: inherit\; font-size: 18px\; line-height: inherit\; vertical-align: baseline\; font-family: inherit\; font-style: inherit\; font-weight: inherit\; color: rgb(0\, 0\, 0)\;">Show your support for restaurants in our communities!</span></div>\n\n<div>&nbsp\;</div>\n
LOCATION:6663 Center Rd. Valley City\, OH 44280
UID:e.160.2878
SEQUENCE:3
DTSTAMP:20260420T051948Z
URL:https://members.nmccalliance.com/events/details/chamber-chomps-at-coffee-in-the-valley-in-valley-city-2878
END:VEVENT

END:VCALENDAR
