BEGIN:VCALENDAR
VERSION:2.0
PRODID:-//ChamberMaster//Event Calendar 2.0//EN
METHOD:PUBLISH
X-PUBLISHED-TTL:P3D
REFRESH-INTERVAL:P3D
CALSCALE:GREGORIAN
BEGIN:VEVENT
DTSTART:20210407T140000Z
DTEND:20210407T233000Z
X-MICROSOFT-CDO-ALLDAYEVENT:FALSE
SUMMARY:Chamber Chomps at Old World Deli
DESCRIPTION:Our Chamber Chomps featured restaurant on April 7th is Old World Deli in Brunswick\, 1667 Pearl Rd. (as announced on the Northern Medina County Chamber Alliance's Facebook and LinkedIn pages).\n\n \n\nPlease join us for curbside pick only up via phone order\, online order or buy a gift card (10 am to 7:30 pm). If ordering online please indicate vehicle type and color.\n\n \n\nIf you would like to join us on the 7th\; we will be ordering and going to Neura Park in Brunswick at Noon (4637 Center Rd.).\n\nPlease note\, if ordering for lunch pick-up at Old World Deli and would like to join us at Neura Park\, your order needs to be placed the night before or early morning on Wednesday the 7th. Old World Deli is offering a special of the day: Gyro\, fries and drink for $9.99.\n\n \n\nThank you and hope you join us!\n\n \n\nShow your support for restaurants in our communities!
X-ALT-DESC;FMTTYPE=text/html:<div style="color: rgb(130\, 84\, 33)\; font-family: Arial\, Verdana\, Helvetica\, sans-serif\; font-size: 14px\; background-color: rgb(255\, 255\, 255)\;"><span style="font-size: 18px\; color: rgb(0\, 0\, 0)\;">Our Chamber Chomps featured restaurant on April 7th is&nbsp\;</span><a href="https://oldworlddeli.net/" rel="noopener noreferrer" style="font-size: 18px\; color: rgb(0\, 0\, 0)\;" target="_blank"><span style="color:#008000\;">Old World Deli in Brunswick</span></a><span style="font-size: 18px\;">\,&nbsp\;</span><span style="font-size: 18px\; color: rgb(0\, 0\, 0)\;">1667 Pearl Rd.</span><span style="font-size: 18px\;">&nbsp\;</span><span style="font-size: 18px\; color: rgb(0\, 0\, 0)\;">(as announced on the Northern Medina County Chamber Alliance&#39\;s&nbsp\;</span><a href="http://r20.rs6.net/tn.jsp?f=001y-exzmLsxWtfdN1qUsriAvGcjyo-hVSdA_vAPxVwwpugj0oryNC87TFvSPde3B6CPeinsdaR2Y9pjgno4TUy_jkl21mRme4d7Q-wicI-oeVUIqiIoRxDhTrsO51kiALfEQxnhNdwQdmQFTr9yIlMp8sbMubAKluy5n2h9iIQ4cIavNF4LWyQ2katrq5Q2QYD&amp\;c=Po1PCcOY1jXyAvAjQzUNE3Mp2jPNSO4n6IfxRMhuJxyvlPTrWOSuFQ==&amp\;ch=v3lwogfjS07fU_6ctjy99rxYLE3JPgSiG1KQjsyl8fIC1HSLbePoEA==" rel="noopener noreferrer" style="font-size: 18px\; color: rgb(0\, 0\, 0)\;" target="_blank">Facebook</a><span style="font-size: 18px\; color: rgb(0\, 0\, 0)\;">&nbsp\;and&nbsp\;</span><a href="http://r20.rs6.net/tn.jsp?f=001y-exzmLsxWtfdN1qUsriAvGcjyo-hVSdA_vAPxVwwpugj0oryNC87TFvSPde3B6C2L6bvStOrFwPY61KRFyWdrgMeb3e4SU8K6ln3gKFb7xmxq4kZSvF-h-WJch6AjDRHg4VNeZb22NxbK8oDtl_MH59LThVf62ARdMI7tJ02feV0kStpmPnabUo5vOhlrHg7DiQ4EXrDVA=&amp\;c=Po1PCcOY1jXyAvAjQzUNE3Mp2jPNSO4n6IfxRMhuJxyvlPTrWOSuFQ==&amp\;ch=v3lwogfjS07fU_6ctjy99rxYLE3JPgSiG1KQjsyl8fIC1HSLbePoEA==" rel="noopener noreferrer" style="font-size: 18px\; color: rgb(0\, 0\, 0)\;" target="_blank">LinkedIn</a><span style="font-size: 18px\; color: rgb(0\, 0\, 0)\;">&nbsp\;pages).</span></div>\n\n<div style="color: rgb(130\, 84\, 33)\; font-family: Arial\, Verdana\, Helvetica\, sans-serif\; font-size: 14px\; background-color: rgb(255\, 255\, 255)\;">&nbsp\;</div>\n\n<div style="color: rgb(130\, 84\, 33)\; font-family: Arial\, Verdana\, Helvetica\, sans-serif\; font-size: 14px\; background-color: rgb(255\, 255\, 255)\;"><span style="font-size: 18px\; color: rgb(0\, 0\, 0)\;">Please join us for curbside pick only up via phone order\, online order or buy a gift card (10 am to 7:30 pm). If ordering online please indicate vehicle type and color.</span></div>\n\n<div style="color: rgb(130\, 84\, 33)\; font-family: Arial\, Verdana\, Helvetica\, sans-serif\; font-size: 14px\; background-color: rgb(255\, 255\, 255)\;">&nbsp\;</div>\n\n<div style="color: rgb(130\, 84\, 33)\; font-family: Arial\, Verdana\, Helvetica\, sans-serif\; font-size: 14px\; background-color: rgb(255\, 255\, 255)\;"><span style="font-size: 18px\; color: rgb(0\, 0\, 0)\;">If you would like to join us on the 7th\; we will be ordering and going to&nbsp\;</span><a href="https://medina.macaronikid.com/directory/592df7db3da9465c7e83d38d/neura-park-brunswick" rel="noopener noreferrer" style="font-size: 18px\; color: rgb(244\, 137\, 40)\;" target="_blank">Neura Park</a><span style="font-size: 18px\; color: rgb(0\, 0\, 0)\;">&nbsp\;in Brunswick at Noon (4637 Center Rd.).</span><br />\n<span style="color:#006400\;"><span style="font-size: 18px\;"><strong>Please note\, if ordering for lunch pick-up at Old World Deli and would like to join us at&nbsp\;</strong></span></span><strong><a href="https://medina.macaronikid.com/directory/592df7db3da9465c7e83d38d/neura-park-brunswick" rel="noopener noreferrer" style="font-size: 18px\; color: rgb(244\, 137\, 40)\;" target="_blank"><span style="color:#006400\;">Neura Park</span></a></strong><span style="color:#006400\;"><span style="font-size: 18px\;"><strong>\, your order needs to be placed the night before or early morning on Wednesday the 7th.</strong></span></span><span style="font-size: 18px\; color: rgb(0\, 0\, 0)\;"> Old World Deli is offering a special of the day: Gyro\, fries and drink for $9.99.</span></div>\n\n<div style="color: rgb(130\, 84\, 33)\; font-family: Arial\, Verdana\, Helvetica\, sans-serif\; font-size: 14px\; background-color: rgb(255\, 255\, 255)\;">&nbsp\;</div>\n\n<div style="color: rgb(130\, 84\, 33)\; font-family: Arial\, Verdana\, Helvetica\, sans-serif\; font-size: 14px\; background-color: rgb(255\, 255\, 255)\;"><span style="font-size: 18px\; color: rgb(0\, 0\, 0)\;">Thank you and hope you join us!</span></div>\n\n<div style="color: rgb(130\, 84\, 33)\; font-family: Arial\, Verdana\, Helvetica\, sans-serif\; font-size: 14px\; background-color: rgb(255\, 255\, 255)\;">&nbsp\;</div>\n\n<div style="color: rgb(130\, 84\, 33)\; font-family: Arial\, Verdana\, Helvetica\, sans-serif\; font-size: 14px\; background-color: rgb(255\, 255\, 255)\;"><span style="font-size: 18px\; color: rgb(0\, 0\, 0)\;">Show your support for restaurants in our communities!</span></div>\n<br />\n&nbsp\;
LOCATION:1667 Pearl Rd. Brunswick
UID:e.160.2877
SEQUENCE:3
DTSTAMP:20260420T070620Z
URL:https://members.nmccalliance.com/events/details/chamber-chomps-at-old-world-deli-2877
END:VEVENT

END:VCALENDAR
