BEGIN:VCALENDAR
VERSION:2.0
PRODID:-//ChamberMaster//Event Calendar 2.0//EN
METHOD:PUBLISH
X-PUBLISHED-TTL:P3D
REFRESH-INTERVAL:P3D
CALSCALE:GREGORIAN
BEGIN:VEVENT
DTSTART:20210106T160000Z
DTEND:20210107T030000Z
X-MICROSOFT-CDO-ALLDAYEVENT:FALSE
SUMMARY:Chamber Chomps at Panini's Grill
DESCRIPTION:Chamber Chomps begins January 6th\, supporting our local restaurants.  Our first featured restaurant is Panini's of Brunswick. Panini's is offering all chamber members 10% off their bill on the 6th. Members must mention they belong to the Northern Medina County Chamber Alliance.\n\nCome join NMCCA and Board Members for lunch at Panini's on the 6th. Hope you can join us\; we would love to meet you there. Let us eat local\, shop local\, support local!
X-ALT-DESC;FMTTYPE=text/html:<p>Chamber Chomps begins January 6th\, supporting our local restaurants.&nbsp\;&nbsp\;Our&nbsp\;first featured restaurant is Panini&rsquo\;s of Brunswick. Panini&rsquo\;s is offering all chamber members 10% off their bill on the 6th. Members must mention they belong to the Northern Medina County Chamber Alliance.</p>\n\n<p>Come join NMCCA and Board Members for lunch at Panini&rsquo\;s on the 6th. Hope you can&nbsp\;join us\; we would love to meet you there. Let us eat local\, shop local\, support local!<br />\n&nbsp\;</p>\n
LOCATION:Brunswick Panini's 3520 Center Rd. Brunswick https://paninisgrill.com/locations/brunswick/
UID:e.160.2857
SEQUENCE:3
DTSTAMP:20260420T132537Z
URL:https://members.nmccalliance.com/events/details/chamber-chomps-at-panini-s-grill-2857
END:VEVENT

END:VCALENDAR
