BEGIN:VCALENDAR
VERSION:2.0
PRODID:-//ChamberMaster//Event Calendar 2.0//EN
METHOD:PUBLISH
X-PUBLISHED-TTL:P3D
REFRESH-INTERVAL:P3D
CALSCALE:GREGORIAN
BEGIN:VEVENT
DTSTART:20210602T150000Z
DTEND:20210603T000000Z
X-MICROSOFT-CDO-ALLDAYEVENT:FALSE
SUMMARY:Chamber Chomps at Samosky's Homestyle Pizzeria
DESCRIPTION:Our Chamber Chomps featured restaurant is Samosky's Homestyle Pizzeria in Valley City (as announced on the Northern Medina County Chamber Alliance's Facebook and LinkedIn pages).\n\n \n\nPlease join us at Noon on Wednesday\, June 2nd at 6738 Center Road in Valley City. They are open from 11 am to 8 pm. You may also order online or buy a gift card for some great food and bakery.  \n\n\n\nThe Samosky name has been serving families great food service since 1910\, when Great Grandpa\, August Samosky\, decided to open his first bakery in Cleveland Ohio on Fleet Ave. & E.61 Street.\n\n \n\nPlease show your support for restaurants in our communities!\n\nHope to see you there!
X-ALT-DESC;FMTTYPE=text/html:<div style="margin: 0px\; padding: 0px\; border: 0px\; font-variant-numeric: inherit\; font-variant-east-asian: inherit\; font-stretch: inherit\; font-size: 14px\; line-height: inherit\; font-family: Arial\, Verdana\, Helvetica\, sans-serif\; vertical-align: baseline\; color: rgb(130\, 84\, 33)\; background-color: rgb(255\, 255\, 255)\;"><span style="font-size:18px\;"><span style="font-family:verdana\;"><span style="margin: 0px\; padding: 0px\; border: 0px\; font-style: inherit\; font-variant: inherit\; font-weight: inherit\; font-stretch: inherit\; line-height: inherit\; vertical-align: baseline\; color: rgb(0\, 0\, 0)\;">Our Chamber Chomps featured restaurant is&nbsp\;<a href="https://www.samoskyspizza.com/">Samosky&#39\;s Homestyle Pizzeria</a> in Valley City&nbsp\;(as announced on the Northern Medina County Chamber Alliance&#39\;s&nbsp\;</span><a data-linkindex="5" href="http://r20.rs6.net/tn.jsp?f=001y-exzmLsxWtfdN1qUsriAvGcjyo-hVSdA_vAPxVwwpugj0oryNC87TFvSPde3B6CPeinsdaR2Y9pjgno4TUy_jkl21mRme4d7Q-wicI-oeVUIqiIoRxDhTrsO51kiALfEQxnhNdwQdmQFTr9yIlMp8sbMubAKluy5n2h9iIQ4cIavNF4LWyQ2katrq5Q2QYD&amp\;c=Po1PCcOY1jXyAvAjQzUNE3Mp2jPNSO4n6IfxRMhuJxyvlPTrWOSuFQ==&amp\;ch=v3lwogfjS07fU_6ctjy99rxYLE3JPgSiG1KQjsyl8fIC1HSLbePoEA==" rel="noopener noreferrer" style="margin: 0px\; padding: 0px\; border: 0px\; font-variant: inherit\; font-stretch: inherit\; font-size: 18px\; line-height: inherit\; vertical-align: baseline\; color: rgb(0\, 0\, 0)\;" target="_blank">Facebook</a><span style="margin: 0px\; padding: 0px\; border: 0px\; font-style: inherit\; font-variant: inherit\; font-weight: inherit\; font-stretch: inherit\; line-height: inherit\; vertical-align: baseline\; color: rgb(0\, 0\, 0)\;">&nbsp\;and</span><a data-linkindex="6" href="http://r20.rs6.net/tn.jsp?f=0010DUHt9A688tV8j0wRM7-Symr_PQRpjNWGWt234LyD59zENthio45rowsjT1_6-3QvovtmFmJph5Af9Aax4YacPPMru0WIEVRH9YgBCvttiGwQu2xIycP2r0TUmjI4kpzD2he-1tVUE4vif8bznvhOZphYR6vmFgxJDK6_IlmNdGYKw02rabqIhwAQt3zuoz90nKjZNpN07HrBjed4_HiqMDqO3P0OdeaNAmu8QPhkKuYCkMAtl4RAg==&amp\;c=W5xL7vmr5G0UAzSFdkSq-YFSZXbOj9Mq_Cgo6J3YO1uSEpsua9gREQ==&amp\;ch=cIThWjNSHXmx9Kfz5_CJY_WJIHE_eurb8IG_3BEi36eqk5kzK1QrPA==&amp\;jrc=1" rel="noopener noreferrer" style="margin: 0px\; padding: 0px\; border: 0px\; font-variant: inherit\; font-stretch: inherit\; font-size: 18px\; line-height: inherit\; vertical-align: baseline\; color: rgb(0\, 0\, 0)\;" target="_blank">&nbsp\;LinkedIn&nbsp\;</a><span style="margin: 0px\; padding: 0px\; border: 0px\; font-style: inherit\; font-variant: inherit\; font-weight: inherit\; font-stretch: inherit\; line-height: inherit\; vertical-align: baseline\; color: rgb(0\, 0\, 0)\;">pages).</span></span></span></div>\n\n<div style="margin: 0px\; padding: 0px\; border: 0px\; font-variant-numeric: inherit\; font-variant-east-asian: inherit\; font-stretch: inherit\; font-size: 14px\; line-height: inherit\; font-family: Arial\, Verdana\, Helvetica\, sans-serif\; vertical-align: baseline\; color: rgb(130\, 84\, 33)\; background-color: rgb(255\, 255\, 255)\;">&nbsp\;</div>\n\n<div style="margin: 0px\; padding: 0px\; border: 0px\; font-variant-numeric: inherit\; font-variant-east-asian: inherit\; font-stretch: inherit\; font-size: 14px\; line-height: inherit\; font-family: Arial\, Verdana\, Helvetica\, sans-serif\; vertical-align: baseline\; color: rgb(130\, 84\, 33)\; background-color: rgb(255\, 255\, 255)\;"><span style="font-size:18px\;"><span style="font-family:verdana\;"><span style="margin: 0px\; padding: 0px\; border: 0px\; font-style: inherit\; font-variant: inherit\; font-weight: inherit\; font-stretch: inherit\; line-height: inherit\; vertical-align: baseline\; color: rgb(0\, 0\, 0)\;">Please join us at Noon on Wednesday\, June 2nd at 6738&nbsp\;Center Road in Valley City. They are open from 11&nbsp\;am to 8&nbsp\;pm. You may also order online or buy a gift card for some great food and bakery.&nbsp\;&nbsp\;</span><br />\n<br />\n<span style="color: rgb(51\, 51\, 51)\; background-color: rgb(255\, 255\, 255)\;">The Samosky name has been serving families great food service since 1910\, when Great Grandpa\, August Samosky\, decided to open his first bakery in Cleveland Ohio on Fleet Ave. &amp\; E.61 Street.</span></span></span><br />\n&nbsp\;</div>\n\n<div style="margin: 0px\; padding: 0px\; border: 0px\; font-variant-numeric: inherit\; font-variant-east-asian: inherit\; font-stretch: inherit\; font-size: 14px\; line-height: inherit\; font-family: Arial\, Verdana\, Helvetica\, sans-serif\; vertical-align: baseline\; color: rgb(130\, 84\, 33)\; background-color: rgb(255\, 255\, 255)\;"><span style="font-size:18px\;"><span style="font-family:verdana\;"><span style="margin: 0px\; padding: 0px\; border: 0px\; font-style: inherit\; font-variant: inherit\; font-weight: inherit\; font-stretch: inherit\; line-height: inherit\; vertical-align: baseline\; color: rgb(0\, 0\, 0)\;">Please show your support for restaurants in our communities!<br />\nHope to see you there!</span></span></span></div>\n
LOCATION:6738 Center Rd. Valley City
UID:e.160.2880
SEQUENCE:3
DTSTAMP:20260420T051858Z
URL:https://members.nmccalliance.com/events/details/chamber-chomps-at-samosky-s-homestyle-pizzeria-2880
END:VEVENT

END:VCALENDAR
