BEGIN:VCALENDAR
VERSION:2.0
PRODID:-//ChamberMaster//Event Calendar 2.0//EN
METHOD:PUBLISH
X-PUBLISHED-TTL:P3D
REFRESH-INTERVAL:P3D
CALSCALE:GREGORIAN
BEGIN:VEVENT
DTSTART:20210203T160000Z
DTEND:20210204T030000Z
X-MICROSOFT-CDO-ALLDAYEVENT:FALSE
SUMMARY:Chamber Chomps: Gandalf's Pub & Restaurant
DESCRIPTION:Our Chamber Chomps featured restaurant on February 3rd is Gandalf's Pub and Restaurant located at 6757 Center Road in Valley City.\n\n\n\nGandalf's is offering some specials of the day. \n\n\n\nPlease join us for lunch\, order carry-out\, buy a gift card\, or stop in after work.  Show your support for restaurants in our communities!\n\n\n\nHope to see you there!
X-ALT-DESC;FMTTYPE=text/html:<span style="font-size:18px\;"><span style="font-family:tahoma\;">Our Chamber Chomps featured restaurant on February 3rd is <strong><a href="https://www.gandalfspub.com/"><span style="color:#008000\;">Gandalf&#39\;s Pub and Restaurant</span></a></strong><span style="color:#008000\;"><strong> </strong></span>located at&nbsp\;6757 Center Road in Valley City.<br />\n<br />\nGandalf&#39\;s is offering some specials of the day.&nbsp\;<br />\n<br />\nPlease join us for lunch\, order carry-out\, buy a gift card\, or stop in after work.&nbsp\; Show your support for restaurants in our communities!<br />\n<br />\nHope to see you there!</span></span>
LOCATION:6757 Center Rd. Valley City\, OH 44280 https://www.gandalfspub.com/
UID:e.160.2858
SEQUENCE:3
DTSTAMP:20260420T114319Z
URL:https://members.nmccalliance.com/events/details/chamber-chomps-gandalf-s-pub-restaurant-2858
END:VEVENT

END:VCALENDAR
