BEGIN:VCALENDAR
VERSION:2.0
PRODID:-//ChamberMaster//Event Calendar 2.0//EN
METHOD:PUBLISH
X-PUBLISHED-TTL:P3D
REFRESH-INTERVAL:P3D
CALSCALE:GREGORIAN
BEGIN:VEVENT
DTSTART:20210901T140000Z
DTEND:20210902T010000Z
X-MICROSOFT-CDO-ALLDAYEVENT:FALSE
SUMMARY:Chamber Chomps: Romeo's Pizza
DESCRIPTION:Our Chamber Chomps featured restaurant is Romeo's Pizza in Brunswick (as announced on the Northern Medina County Chamber Alliance's Facebook and LinkedIn pages).\n\n \n\nPlease join Debbie and Charlene at noon at Neura Park in Brunswick once you have received your lunch order at:\n\n4637 Center Rd.\n\nBrunswick\, Ohio\n\nThey are open 10am to 9pm on Wednesday's. Romeo's is offering members on Wednesday\, 20% off your order.\n\n \n\nPlease show your support for restaurants in our communities!\n\n \n\nHope to see you there!
X-ALT-DESC;FMTTYPE=text/html:<div style="color: rgb(130\, 84\, 33)\; font-family: Arial\, Verdana\, Helvetica\, sans-serif\; font-size: 14px\; white-space: pre-wrap\;"><span style="font-size: 18px\; color: rgb(0\, 0\, 0)\;">Our Chamber Chomps featured restaurant is </span><a data-link-type="web" href="https://locations.romeospizza.com/romeos-pizza-6d887e4fd1ea" rel="noopener noreferrer" style="color: rgb(56\, 123\, 55)\; font-style: italic\; font-size: 18px\;" target="_blank">Romeo&#39\;s Pizza</a><span style="font-size: 16px\; color: rgb(0\, 0\, 0)\; font-family: Roboto\, sans-serif\;"> </span><span style="font-size: 18px\; color: rgb(0\, 0\, 0)\;">in Brunswick&nbsp\;(as announced on the Northern Medina County Chamber Alliance&#39\;s&nbsp\;</span><a href="http://r20.rs6.net/tn.jsp?f=001y-exzmLsxWtfdN1qUsriAvGcjyo-hVSdA_vAPxVwwpugj0oryNC87TFvSPde3B6CPeinsdaR2Y9pjgno4TUy_jkl21mRme4d7Q-wicI-oeVUIqiIoRxDhTrsO51kiALfEQxnhNdwQdmQFTr9yIlMp8sbMubAKluy5n2h9iIQ4cIavNF4LWyQ2katrq5Q2QYD&amp\;c=Po1PCcOY1jXyAvAjQzUNE3Mp2jPNSO4n6IfxRMhuJxyvlPTrWOSuFQ==&amp\;ch=v3lwogfjS07fU_6ctjy99rxYLE3JPgSiG1KQjsyl8fIC1HSLbePoEA==" rel="noopener noreferrer" style="text-decoration-line: none\; color: rgb(0\, 0\, 0)\; font-size: 18px\;" target="_blank">Facebook</a><span style="font-size: 18px\; color: rgb(0\, 0\, 0)\;">&nbsp\;and</span><a href="http://r20.rs6.net/tn.jsp?f=0010DUHt9A688tV8j0wRM7-Symr_PQRpjNWGWt234LyD59zENthio45rowsjT1_6-3QvovtmFmJph5Af9Aax4YacPPMru0WIEVRH9YgBCvttiGwQu2xIycP2r0TUmjI4kpzD2he-1tVUE4vif8bznvhOZphYR6vmFgxJDK6_IlmNdGYKw02rabqIhwAQt3zuoz90nKjZNpN07HrBjed4_HiqMDqO3P0OdeaNAmu8QPhkKuYCkMAtl4RAg==&amp\;c=W5xL7vmr5G0UAzSFdkSq-YFSZXbOj9Mq_Cgo6J3YO1uSEpsua9gREQ==&amp\;ch=cIThWjNSHXmx9Kfz5_CJY_WJIHE_eurb8IG_3BEi36eqk5kzK1QrPA==&amp\;jrc=1" rel="noopener noreferrer" style="text-decoration-line: none\; color: rgb(0\, 0\, 0)\; font-size: 18px\;" target="_blank">&nbsp\;LinkedIn&nbsp\;</a><span style="font-size: 18px\; color: rgb(0\, 0\, 0)\;">pages).</span></div>\n\n<div style="color: rgb(130\, 84\, 33)\; font-family: Arial\, Verdana\, Helvetica\, sans-serif\; font-size: 14px\; white-space: pre-wrap\;">&nbsp\;</div>\n\n<div style="color: rgb(130\, 84\, 33)\; font-family: Arial\, Verdana\, Helvetica\, sans-serif\; font-size: 14px\; white-space: pre-wrap\;"><span style="font-size: 18px\; color: rgb(0\, 0\, 0)\;">Please join Debbie and Charlene&nbsp\;at noon at </span><a data-link-type="web" href="https://www.brunswick.oh.us/parks/brunswicks-parks/" rel="noopener noreferrer" style="color: rgb(56\, 123\, 55)\; font-style: italic\; font-size: 18px\;" target="_blank">Neura Park</a><span style="font-size: 18px\; color: rgb(0\, 0\, 0)\;"> in Brunswick once you have received your lunch order at:</span></div>\n\n<div style="color: rgb(130\, 84\, 33)\; font-family: Arial\, Verdana\, Helvetica\, sans-serif\; font-size: 14px\; white-space: pre-wrap\; text-align: center\;"><span style="font-size: 18px\; color: rgb(0\, 0\, 0)\;">4637 Center Rd.</span></div>\n\n<div style="color: rgb(130\, 84\, 33)\; font-family: Arial\, Verdana\, Helvetica\, sans-serif\; font-size: 14px\; white-space: pre-wrap\; text-align: center\;"><span style="font-size: 18px\; color: rgb(0\, 0\, 0)\;">Brunswick\, Ohio</span></div>\n\n<div style="color: rgb(130\, 84\, 33)\; font-family: Arial\, Verdana\, Helvetica\, sans-serif\; font-size: 14px\; white-space: pre-wrap\;"><span style="font-size: 18px\; color: rgb(0\, 0\, 0)\;">They are open 10am to 9pm on Wednesday&#39\;s. </span><span style="font-size: 18px\; color: rgb(32\, 33\, 36)\;">Romeo&#39\;s is</span><span style="font-size: 24px\; color: rgb(32\, 33\, 36)\;"> </span><span style="font-size: 18px\; color: rgb(0\, 0\, 0)\;">offering members on Wednesday\, 20% off your order.</span></div>\n\n<div style="color: rgb(130\, 84\, 33)\; font-family: Arial\, Verdana\, Helvetica\, sans-serif\; font-size: 14px\; white-space: pre-wrap\;">&nbsp\;</div>\n\n<div style="color: rgb(130\, 84\, 33)\; font-family: Arial\, Verdana\, Helvetica\, sans-serif\; font-size: 14px\; white-space: pre-wrap\;"><span style="font-size: 18px\; color: rgb(0\, 0\, 0)\;">Please show your support for restaurants in our communities!</span></div>\n\n<div style="color: rgb(130\, 84\, 33)\; font-family: Arial\, Verdana\, Helvetica\, sans-serif\; font-size: 14px\; white-space: pre-wrap\;"><span style="font-size: 18px\; color: rgb(0\, 0\, 0)\;">&#65279\;</span></div>\n\n<div style="color: rgb(130\, 84\, 33)\; font-family: Arial\, Verdana\, Helvetica\, sans-serif\; font-size: 14px\; white-space: pre-wrap\;"><span style="font-size: 18px\; color: rgb(0\, 0\, 0)\;">Hope to see you there!</span></div>\n
LOCATION:3816 Center Rd. Brunswick
UID:e.160.2908
SEQUENCE:3
DTSTAMP:20260420T000633Z
URL:https://members.nmccalliance.com/events/details/chamber-chomps-romeo-s-pizza-2908
END:VEVENT

END:VCALENDAR
