BEGIN:VCALENDAR
VERSION:2.0
PRODID:-//ChamberMaster//Event Calendar 2.0//EN
METHOD:PUBLISH
X-PUBLISHED-TTL:P3D
REFRESH-INTERVAL:P3D
CALSCALE:GREGORIAN
BEGIN:VEVENT
DTSTART:20210707T153000Z
DTEND:20210708T003000Z
X-MICROSOFT-CDO-ALLDAYEVENT:FALSE
SUMMARY:Chamber Chomps: Valley City Chill and Grille
DESCRIPTION:Our Chamber Chomps featured restaurant is Valley City Chill & Grille in Valley City (as announced on the Northern Medina County Chamber Alliance's Facebook and LinkedIn pages).\n\n \n\nPlease join Debbie\, Charlene and Isabelle at noon on Wednesday\, July 7th at 6677 Center Road in Valley City. They are open from 11:30 am to 8:30 pm. VC Chill & Grille was featured on Good Day Cleveland a few weeks ago. \n\n\n\nThe special being offered that day is a meatball sub sandwich with fries or chicken parmesan sandwich with fries for $6 each. Plus\, they are offering 50% off ice cream with a food purchase for chamber members on July 7th. Seating space is limited at Chill and Grille\, so we will see you at Mill Stream Park to eat and socialize.\n\n\n\nPlease show your support for restaurants in our communities!\n\nHope to see you there!
X-ALT-DESC;FMTTYPE=text/html:<div style="box-sizing: border-box\; margin: 0px\; padding: 0px\; border: 0px\; outline: 0px\; font-size: 14px\; font-stretch: inherit\; line-height: inherit\; vertical-align: baseline\; font-family: Arial\, Verdana\, Helvetica\, sans-serif\; font-variant-numeric: inherit\; font-variant-east-asian: inherit\; color: rgb(130\, 84\, 33)\;"><span style="box-sizing: border-box\; margin: 0px\; padding: 0px\; border: 0px\; outline: 0px\; font-size: 18px\; font-variant-caps: inherit\; font-stretch: inherit\; line-height: inherit\; vertical-align: baseline\; font-family: inherit\; font-style: inherit\;"><span style="box-sizing: border-box\; margin: 0px\; padding: 0px\; border: 0px\; outline: 0px\; font-size: inherit\; font-variant-caps: inherit\; font-stretch: inherit\; line-height: inherit\; vertical-align: baseline\; font-family: verdana\; font-style: inherit\;"><span style="box-sizing: border-box\; margin: 0px\; padding: 0px\; border: 0px\; outline: 0px\; font-size: inherit\; font-variant-caps: inherit\; font-stretch: inherit\; line-height: inherit\; vertical-align: baseline\; font-family: inherit\; font-style: inherit\; font-variant-ligatures: inherit\; font-variant-position: inherit\; font-variant-numeric: inherit\; font-variant-alternates: inherit\; font-variant-east-asian: inherit\; color: rgb(0\, 0\, 0)\;"><span style="font-family:verdana\;">Our Chamber Chomps featured restaurant is</span> <span style="font-family:verdana\;"><a href="https://chillandgrille.com">Valley City Chill &amp\; Grille</a>&nbsp\;in Valley City&nbsp\;(as announced on the Northern Medina County Chamber Alliance&#39\;s&nbsp\;</span></span><a data-linkindex="5" href="http://r20.rs6.net/tn.jsp?f=001y-exzmLsxWtfdN1qUsriAvGcjyo-hVSdA_vAPxVwwpugj0oryNC87TFvSPde3B6CPeinsdaR2Y9pjgno4TUy_jkl21mRme4d7Q-wicI-oeVUIqiIoRxDhTrsO51kiALfEQxnhNdwQdmQFTr9yIlMp8sbMubAKluy5n2h9iIQ4cIavNF4LWyQ2katrq5Q2QYD&amp\;c=Po1PCcOY1jXyAvAjQzUNE3Mp2jPNSO4n6IfxRMhuJxyvlPTrWOSuFQ==&amp\;ch=v3lwogfjS07fU_6ctjy99rxYLE3JPgSiG1KQjsyl8fIC1HSLbePoEA==" rel="noopener noreferrer" style="box-sizing: border-box\; color: rgb(0\, 0\, 0)\; text-decoration: none\; background-color: transparent\; text-decoration-skip: objects\; word-wrap: break-word\; outline: 0px\; margin: 0px\; padding: 0px\; border: 0px\; font-variant-ligatures: inherit\; font-variant-position: inherit\; font-variant-caps: inherit\; font-variant-numeric: inherit\; font-variant-alternates: inherit\; font-variant-east-asian: inherit\; font-stretch: inherit\; line-height: inherit\; vertical-align: baseline\;" target="_blank">Facebook</a><span style="box-sizing: border-box\; margin: 0px\; padding: 0px\; border: 0px\; outline: 0px\; font-size: inherit\; font-variant: inherit\; font-stretch: inherit\; line-height: inherit\; vertical-align: baseline\; font-style: inherit\; color: rgb(0\, 0\, 0)\;">&nbsp\;and</span><a data-linkindex="6" href="http://r20.rs6.net/tn.jsp?f=0010DUHt9A688tV8j0wRM7-Symr_PQRpjNWGWt234LyD59zENthio45rowsjT1_6-3QvovtmFmJph5Af9Aax4YacPPMru0WIEVRH9YgBCvttiGwQu2xIycP2r0TUmjI4kpzD2he-1tVUE4vif8bznvhOZphYR6vmFgxJDK6_IlmNdGYKw02rabqIhwAQt3zuoz90nKjZNpN07HrBjed4_HiqMDqO3P0OdeaNAmu8QPhkKuYCkMAtl4RAg==&amp\;c=W5xL7vmr5G0UAzSFdkSq-YFSZXbOj9Mq_Cgo6J3YO1uSEpsua9gREQ==&amp\;ch=cIThWjNSHXmx9Kfz5_CJY_WJIHE_eurb8IG_3BEi36eqk5kzK1QrPA==&amp\;jrc=1" rel="noopener noreferrer" style="box-sizing: border-box\; color: rgb(0\, 0\, 0)\; text-decoration: none\; background-color: transparent\; text-decoration-skip: objects\; word-wrap: break-word\; outline: 0px\; margin: 0px\; padding: 0px\; border: 0px\; font-variant-ligatures: inherit\; font-variant-position: inherit\; font-variant-caps: inherit\; font-variant-numeric: inherit\; font-variant-alternates: inherit\; font-variant-east-asian: inherit\; font-stretch: inherit\; line-height: inherit\; vertical-align: baseline\;" target="_blank">&nbsp\;LinkedIn&nbsp\;</a><span style="box-sizing: border-box\; margin: 0px\; padding: 0px\; border: 0px\; outline: 0px\; font-size: inherit\; font-variant: inherit\; font-stretch: inherit\; line-height: inherit\; vertical-align: baseline\; font-style: inherit\; color: rgb(0\, 0\, 0)\;">pages).</span></span></span></div>\n\n<div style="box-sizing: border-box\; margin: 0px\; padding: 0px\; border: 0px\; outline: 0px\; font-size: 14px\; font-stretch: inherit\; line-height: inherit\; vertical-align: baseline\; font-family: Arial\, Verdana\, Helvetica\, sans-serif\; font-variant-numeric: inherit\; font-variant-east-asian: inherit\; color: rgb(130\, 84\, 33)\;">&nbsp\;</div>\n\n<div style="box-sizing: border-box\; margin: 0px\; padding: 0px\; border: 0px\; outline: 0px\; font-size: 14px\; font-stretch: inherit\; line-height: inherit\; vertical-align: baseline\; font-family: Arial\, Verdana\, Helvetica\, sans-serif\; font-variant-numeric: inherit\; font-variant-east-asian: inherit\; color: rgb(130\, 84\, 33)\;"><span style="box-sizing: border-box\; margin: 0px\; padding: 0px\; border: 0px\; outline: 0px\; font-size: 18px\; font-variant-caps: inherit\; font-stretch: inherit\; line-height: inherit\; vertical-align: baseline\; font-family: inherit\; font-style: inherit\;"><span style="box-sizing: border-box\; margin: 0px\; padding: 0px\; border: 0px\; outline: 0px\; font-size: inherit\; font-variant-caps: inherit\; font-stretch: inherit\; line-height: inherit\; vertical-align: baseline\; font-family: verdana\; font-style: inherit\;"><span style="box-sizing: border-box\; margin: 0px\; padding: 0px\; border: 0px\; outline: 0px\; font-size: inherit\; font-variant-caps: inherit\; font-stretch: inherit\; line-height: inherit\; vertical-align: baseline\; font-family: inherit\; font-style: inherit\; font-variant-ligatures: inherit\; font-variant-position: inherit\; font-variant-numeric: inherit\; font-variant-alternates: inherit\; font-variant-east-asian: inherit\; color: rgb(0\, 0\, 0)\;"><span style="font-family:verdana\;">Please join Debbie\, Charlene and Isabelle&nbsp\;at noon on Wednesday\, July&nbsp\;7th&nbsp\;at 6677&nbsp\;Center Road in Valley City. They are open from 11:30&nbsp\;am to 8:30 pm.&nbsp\;VC Chill &amp\; Grille was&nbsp\;featured on Good Day Cleveland a few weeks ago.&nbsp\;</span><br />\n<br />\n<span style="font-family:verdana\;">The special being offered that day is a meatball sub sandwich with fries&nbsp\;or chicken parmesan sandwich with fries for $6 each. Plus\, they are offering 50% off ice cream with a food purchase for chamber members on July 7th.&nbsp\;</span></span></span></span><span style="font-family:verdana\;"><span style="color:#000000\;"><span style="font-size: 18px\; white-space: pre-wrap\; background-color: rgb(255\, 255\, 255)\;">Seating space is limited at Chill and Grille\, so we will see you at Mill Stream Park to eat and socialize.</span></span></span><br style="box-sizing: border-box\;" />\n<br style="box-sizing: border-box\;" />\n<span style="font-family:verdana\;"><span style="box-sizing: border-box\; margin: 0px\; padding: 0px\; border: 0px\; outline: 0px\; font-size: 18px\; font-variant-caps: inherit\; font-stretch: inherit\; line-height: inherit\; vertical-align: baseline\; font-style: inherit\;"><span style="box-sizing: border-box\; margin: 0px\; padding: 0px\; border: 0px\; outline: 0px\; font-size: inherit\; font-variant-caps: inherit\; font-stretch: inherit\; line-height: inherit\; vertical-align: baseline\; font-style: inherit\;"><span style="box-sizing: border-box\; margin: 0px\; padding: 0px\; border: 0px\; outline: 0px\; font-size: inherit\; font-variant: inherit\; font-stretch: inherit\; line-height: inherit\; vertical-align: baseline\; font-style: inherit\; color: rgb(0\, 0\, 0)\;">Please show your support for restaurants in our communities!<br style="box-sizing: border-box\;" />\nHope to see you there!</span></span></span></span></div>\n
LOCATION:Valley City Chill & Grille 6677 Center Rd. Valley City
UID:e.160.2905
SEQUENCE:3
DTSTAMP:20260420T033120Z
URL:https://members.nmccalliance.com/events/details/chamber-chomps-valley-city-chill-and-grille-2905
END:VEVENT

END:VCALENDAR
