BEGIN:VCALENDAR
VERSION:2.0
PRODID:-//ChamberMaster//Event Calendar 2.0//EN
METHOD:PUBLISH
X-PUBLISHED-TTL:P3D
REFRESH-INTERVAL:P3D
CALSCALE:GREGORIAN
BEGIN:VEVENT
DTSTART:20210303T163000Z
DTEND:20210304T030000Z
X-MICROSOFT-CDO-ALLDAYEVENT:FALSE
SUMMARY:Chamber Chomps: Winking Lizard - Brunswick
DESCRIPTION:Our Chamber Chomps featured restaurant on March 3rd is Winking Lizard in Brunswick located at 3634 Center Road.\n\n \nPlease join us for lunch\, order carry-out\, buy a gift card\, or stop in after work. For the month of March\, Chamber members are urged to patronize Winking Lizard In Brunswick and drop off their business cards in a fishbowl in the Lizardville Room.  At the end of March\, there will be one big drawing where someone will win Winking Lizard merchandise and gift cards. \n\n \n\nShow your support for restaurants in our communities!\n\n \n\nHope to see you there!
X-ALT-DESC;FMTTYPE=text/html:<span style="font-family: tahoma\; font-size: 18px\;">Our Chamber Chomps featured restaurant on March 3rd is <span style="caret-color: rgb(0\, 128\, 0)\;"><a href="https://winkinglizard.com/locations/brunswick#menu"><span style="color:#008000\;">Winking Lizard in Brunswick</span></a></span><font color="#008000"><span style="caret-color: rgb(0\, 128\, 0)\;">&nbsp\;</span></font></span><span style="font-family: tahoma\; font-size: 18px\;">located at 3634 Center Road.</span><br style="font-family: tahoma\; font-size: 18px\;" />\n&nbsp\;\n<div align="left" style="margin: 0px\; padding: 0px\; border: 0px\; font-variant-numeric: inherit\; font-variant-east-asian: inherit\; font-stretch: inherit\; font-size: 14pt\; line-height: inherit\; font-family: Arial\, Helvetica\, sans-serif\, serif\, EmojiFont\; vertical-align: baseline\; background-color: rgb(255\, 255\, 255)\;"><span style="margin: 0px\; padding: 0px\; border: 0px\; font: inherit\; vertical-align: baseline\; color: inherit\;">Please join us for lunch\, order carry-out\, buy a gift card\, or stop in after work. For the month of March\, Chamber members are urged to patronize Winking Lizard In Brunswick and drop off their business cards in a fishbowl in the Lizardville Room.&nbsp\; At the end of March\, there will be one big drawing where someone will win Winking Lizard merchandise and gift cards.&nbsp\;</span></div>\n\n<div align="left" style="margin: 0px\; padding: 0px\; border: 0px\; font-variant-numeric: inherit\; font-variant-east-asian: inherit\; font-stretch: inherit\; font-size: 14pt\; line-height: inherit\; font-family: Arial\, Helvetica\, sans-serif\, serif\, EmojiFont\; vertical-align: baseline\; background-color: rgb(255\, 255\, 255)\;">&nbsp\;</div>\n\n<div align="left" style="margin: 0px\; padding: 0px\; border: 0px\; font-variant-numeric: inherit\; font-variant-east-asian: inherit\; font-stretch: inherit\; font-size: 14pt\; line-height: inherit\; font-family: Arial\, Helvetica\, sans-serif\, serif\, EmojiFont\; vertical-align: baseline\; background-color: rgb(255\, 255\, 255)\;"><span style="margin: 0px\; padding: 0px\; border: 0px\; font: inherit\; vertical-align: baseline\; color: inherit\;">Show your support for restaurants in our communities!</span></div>\n\n<div align="left" style="margin: 0px\; padding: 0px\; border: 0px\; font-variant-numeric: inherit\; font-variant-east-asian: inherit\; font-stretch: inherit\; font-size: 14pt\; line-height: inherit\; font-family: Arial\, Helvetica\, sans-serif\, serif\, EmojiFont\; vertical-align: baseline\; background-color: rgb(255\, 255\, 255)\;">&nbsp\;</div>\n\n<div align="left" style="margin: 0px\; padding: 0px\; border: 0px\; font-variant-numeric: inherit\; font-variant-east-asian: inherit\; font-stretch: inherit\; font-size: 14pt\; line-height: inherit\; font-family: Arial\, Helvetica\, sans-serif\, serif\, EmojiFont\; vertical-align: baseline\; background-color: rgb(255\, 255\, 255)\;"><span style="margin: 0px\; padding: 0px\; border: 0px\; font: inherit\; vertical-align: baseline\; color: inherit\;">Hope to see you there!</span></div>\n
LOCATION:Winking Lizard Brunswick 3634 Center Rd.
UID:e.160.2876
SEQUENCE:3
DTSTAMP:20260420T095453Z
URL:https://members.nmccalliance.com/events/details/chamber-chomps-winking-lizard-brunswick-2876
END:VEVENT

END:VCALENDAR
