BEGIN:VCALENDAR
VERSION:2.0
PRODID:-//ChamberMaster//Event Calendar 2.0//EN
METHOD:PUBLISH
X-PUBLISHED-TTL:P3D
REFRESH-INTERVAL:P3D
CALSCALE:GREGORIAN
BEGIN:VEVENT
DTSTART:20101117T123000Z
DTEND:20101117T140000Z
X-MICROSOFT-CDO-ALLDAYEVENT:FALSE
SUMMARY:Cherokee Hills Networking Breakfast
DESCRIPTION:Catered by Cherokee Hills Breakfast:  7:30 AM to 8:00 AMProgram:    8:00 AM to 9:00 AM Speaker: Michael Briola on Internal Customer Service
X-ALT-DESC;FMTTYPE=text/html:<div><div><div>Catered by Cherokee Hills</div><div>&nbsp\;</div><div>Breakfast:&nbsp\; 7:30 AM to 8:00 AM</div><div>Program:&nbsp\;&nbsp\;&nbsp\; 8:00 AM to 9:00 AM</div><div>&nbsp\;</div><div>Speaker: Michael Briola on Internal Customer Service</div></div></div>
LOCATION:Cherokee Hills Golf Club5740 Center RoadValley City\, Ohio 44280
UID:e.160.1288
SEQUENCE:3
DTSTAMP:20260424T184530Z
URL:https://members.nmccalliance.com/events/details/cherokee-hills-networking-breakfast-11-17-2010-1288
END:VEVENT

END:VCALENDAR
