BEGIN:VCALENDAR
VERSION:2.0
PRODID:-//ChamberMaster//Event Calendar 2.0//EN
METHOD:PUBLISH
X-PUBLISHED-TTL:P3D
REFRESH-INTERVAL:P3D
CALSCALE:GREGORIAN
BEGIN:VEVENT
DTSTART:20130719T130000Z
DTEND:20130721T020000Z
X-MICROSOFT-CDO-ALLDAYEVENT:FALSE
SUMMARY:Christmas in July Sale
DESCRIPTION:Here at Corder's Jewelers you will see that we have the NEWEST and HOTTEST jewelry pieces in the market. White\, Yellow and Rose Gold\, Diamond Pave and Micro Pave\, Colored and Floating Diamonds\, Diamond Halo Engagement rings and Wedding sets. We can size or repair any piece of jewelry in our on site repair department within a day or two. All of our jewelry pieces are discounted to fit every ones budget. We will see everyone at our Christmas in July Sale\, Friday and Saturday July 19th and 20th. Call us for your reservation. Corder's Jewelers\, Where your dreams come true.
X-ALT-DESC;FMTTYPE=text/html:<span class="userContent">Here at Corder&#39\;s Jewelers you will see that we have the NEWEST and HOTTEST jewelry pieces in the market. White\, Yellow and Rose Gold\, Diamond Pave and Micro Pave\, Colored and Floating Diamonds\, Diamond Halo Engagement rings and Wedding set<span class="text_exposed_show">s. We can size or repair any piece of jewelry in our on site repair department within a day or two. All of our jewelry pieces are discounted to fit every ones budget. We will see everyone at our Christmas in July Sale\, Friday and Saturday July 19th and 20th. Call us for your reservation. Corder&#39\;s Jewelers\, Where your dreams come true.</span></span>
LOCATION:3841 Center Road
UID:e.160.1965
SEQUENCE:3
DTSTAMP:20260422T011800Z
URL:https://members.nmccalliance.com/events/details/christmas-in-july-sale-07-19-2013-1965
END:VEVENT

END:VCALENDAR
