BEGIN:VCALENDAR
VERSION:2.0
PRODID:-//ChamberMaster//Event Calendar 2.0//EN
METHOD:PUBLISH
X-PUBLISHED-TTL:P3D
REFRESH-INTERVAL:P3D
CALSCALE:GREGORIAN
BEGIN:VEVENT
DTSTART:20101216T223000Z
DTEND:20101217T010000Z
X-MICROSOFT-CDO-ALLDAYEVENT:FALSE
SUMMARY:Christmas Party - 2010
DESCRIPTION:Holiday event features networking with other members\, a basket raffle\, appetizers\, and drinks.
X-ALT-DESC;FMTTYPE=text/html:Holiday event features networking with other members\, a basket raffle\, appetizers\, and drinks.&nbsp\; 
LOCATION:Midpoint Campus Center 50 Pearl Road Brunswick\, OH 44212
UID:e.160.1304
SEQUENCE:3
DTSTAMP:20260424T160644Z
URL:https://members.nmccalliance.com/events/details/christmas-party-2010-12-16-2010-1304
END:VEVENT

END:VCALENDAR
