BEGIN:VCALENDAR
VERSION:2.0
PRODID:-//ChamberMaster//Event Calendar 2.0//EN
METHOD:PUBLISH
X-PUBLISHED-TTL:P3D
REFRESH-INTERVAL:P3D
CALSCALE:GREGORIAN
BEGIN:VEVENT
DTSTART:20100524T233000Z
DTEND:20100525T010000Z
X-MICROSOFT-CDO-ALLDAYEVENT:FALSE
SUMMARY:City Council Seal Contest Winners
DESCRIPTION:
X-ALT-DESC;FMTTYPE=text/html:
LOCATION:
UID:e.160.1067
SEQUENCE:3
DTSTAMP:20260425T043202Z
URL:https://members.nmccalliance.com/events/details/city-council-seal-contest-winners-05-24-2010-1067
END:VEVENT

END:VCALENDAR
