BEGIN:VCALENDAR
VERSION:2.0
PRODID:-//ChamberMaster//Event Calendar 2.0//EN
METHOD:PUBLISH
X-PUBLISHED-TTL:P3D
REFRESH-INTERVAL:P3D
CALSCALE:GREGORIAN
BEGIN:VEVENT
DTSTART:20111209T130000Z
DTEND:20111209T143000Z
X-MICROSOFT-CDO-ALLDAYEVENT:FALSE
SUMMARY:Coffee with the Membership 02/2011
DESCRIPTION:The Brunswick Area Chamber of Commerce and Council of Smaller Enterprises (COSE) will be hosting an event called "Coffee with the Membership" on the second Friday of every month.  The event will feature employees from both organizations as well as representatives from businesses that are members of BACC and/or COSE. \n\n\n\nThe event is free to attend!
X-ALT-DESC;FMTTYPE=text/html:The Brunswick Area Chamber of Commerce and Council of Smaller Enterprises (COSE) will be hosting an event called &quot\;Coffee with the Membership&quot\; on the second Friday of every month.&nbsp\; The event will feature employees from both organizations as well as representatives&nbsp\;from&nbsp\;businesses that are members of BACC and/or COSE.&nbsp\;<br />\n<br />\nThe event is free to attend!
LOCATION:The Brunswick Area Chamber of Commerce Office / COSE Business Space 1434 Town Center Blvd. Ste C50 Brunswick\, OH 44212
UID:e.160.1583
SEQUENCE:3
DTSTAMP:20260423T083940Z
URL:https://members.nmccalliance.com/events/details/coffee-with-the-membership-02-2011-12-09-2011-1583
END:VEVENT

END:VCALENDAR
