BEGIN:VCALENDAR
VERSION:2.0
PRODID:-//ChamberMaster//Event Calendar 2.0//EN
METHOD:PUBLISH
X-PUBLISHED-TTL:P3D
REFRESH-INTERVAL:P3D
CALSCALE:GREGORIAN
BEGIN:VEVENT
DTSTART:20130712T120000Z
DTEND:20130712T133000Z
X-MICROSOFT-CDO-ALLDAYEVENT:FALSE
SUMMARY:Coffee with the Membership 05/2013
DESCRIPTION:This event is FREE to the membership and it is a way for people to get to know one another on a more personal level. Claus Meyer from Raymond James starts each session with a topic and the conversation just goes from there...
X-ALT-DESC;FMTTYPE=text/html:This event is FREE to the membership and it is a way for people to get to know one another on a more personal level. Claus Meyer from Raymond James starts each session with a topic and the conversation just goes from there...
LOCATION:Brunswick University Center (Tri-C building) Center Road
UID:e.160.1837
SEQUENCE:3
DTSTAMP:20260422T011647Z
URL:https://members.nmccalliance.com/events/details/coffee-with-the-membership-05-2013-07-12-2013-1837
END:VEVENT

END:VCALENDAR
