BEGIN:VCALENDAR
VERSION:2.0
PRODID:-//ChamberMaster//Event Calendar 2.0//EN
METHOD:PUBLISH
X-PUBLISHED-TTL:P3D
REFRESH-INTERVAL:P3D
CALSCALE:GREGORIAN
BEGIN:VEVENT
DTSTART;VALUE=DATE:20121008
DTEND;VALUE=DATE:20121009
TRANSP:TRANSPARENT
X-MICROSOFT-CDO-ALLDAYEVENT:TRUE
SUMMARY:Columbus Day 2012 - Chamber CLOSED
DESCRIPTION:
X-ALT-DESC;FMTTYPE=text/html:
LOCATION:
UID:e.160.1749
SEQUENCE:3
DTSTAMP:20260422T155701Z
URL:https://members.nmccalliance.com/events/details/columbus-day-2012-chamber-closed-10-08-2012-1749
END:VEVENT

END:VCALENDAR
