BEGIN:VCALENDAR
VERSION:2.0
PRODID:-//ChamberMaster//Event Calendar 2.0//EN
METHOD:PUBLISH
X-PUBLISHED-TTL:P3D
REFRESH-INTERVAL:P3D
CALSCALE:GREGORIAN
BEGIN:VEVENT
DTSTART:20101109T220000Z
DTEND:20101110T000000Z
X-MICROSOFT-CDO-ALLDAYEVENT:FALSE
SUMMARY:Combined Business to Business
DESCRIPTION:Business to business combined event at the Winking Lizard.
X-ALT-DESC;FMTTYPE=text/html:Business to business combined event at the Winking Lizard.&nbsp\; 
LOCATION:Winking Lizard Tavern 3634 Center Rd Brunswick\, OH 44212
UID:e.160.1296
SEQUENCE:3
DTSTAMP:20260424T185926Z
URL:https://members.nmccalliance.com/events/details/combined-business-to-business-11-09-2010-1296
END:VEVENT

END:VCALENDAR
