BEGIN:VCALENDAR
VERSION:2.0
PRODID:-//ChamberMaster//Event Calendar 2.0//EN
METHOD:PUBLISH
X-PUBLISHED-TTL:P3D
REFRESH-INTERVAL:P3D
CALSCALE:GREGORIAN
BEGIN:VEVENT
DTSTART:20220222T170000Z
DTEND:20220222T180000Z
X-MICROSOFT-CDO-ALLDAYEVENT:FALSE
SUMMARY:Connecions Networking III
DESCRIPTION:Increase your referral base by making a commitment to promotional marketing through our Connections Networking Groups. These groups are designed to allow for one business type per industry per group.  For more information please contact Christina Tamas\, ChristinasellsCLE\, christinasellscle@gmail.com
X-ALT-DESC;FMTTYPE=text/html:<span style="color: rgb(51\, 51\, 51)\; font-family: sans-serif\, Arial\, Verdana\, &quot\;Trebuchet MS&quot\;\; font-size: 13px\; background-color: rgb(255\, 255\, 255)\;">Increase your referral base by making a commitment to promotional marketing through our Connections Networking Groups. These groups are designed to allow for one business type per industry per group.&nbsp\; For more information please&nbsp\;contact Christina Tamas\, ChristinasellsCLE\,&nbsp\;</span><span style="color: rgb(51\, 51\, 51)\; font-family: sans-serif\, Arial\, Verdana\, &quot\;Trebuchet MS&quot\;\; font-size: 13px\; background-color: rgb(255\, 255\, 255)\;">christinasellscle@gmail.com</span>
LOCATION:Coppertop Golf Club 5740 Center Rd Valley City\, OH 44280
UID:e.160.2901
SEQUENCE:3
DTSTAMP:20260420T051603Z
URL:https://members.nmccalliance.com/events/details/connecions-networking-iii-02-22-2022-2901
END:VEVENT

END:VCALENDAR
