BEGIN:VCALENDAR
VERSION:2.0
PRODID:-//ChamberMaster//Event Calendar 2.0//EN
METHOD:PUBLISH
X-PUBLISHED-TTL:P3D
REFRESH-INTERVAL:P3D
CALSCALE:GREGORIAN
BEGIN:VEVENT
DTSTART:20220524T160000Z
DTEND:20220524T170000Z
X-MICROSOFT-CDO-ALLDAYEVENT:FALSE
SUMMARY:Connecions Networking III
DESCRIPTION:Increase your referral base by making a commitment to promotional marketing through our Connections Networking Groups. These groups are designed to allow for one business type per industry per group.  For more information please contact Christina Tamas\, ChristinasellsCLE\, christinasellscle@gmail.com
X-ALT-DESC;FMTTYPE=text/html:Increase your referral base by making a commitment to promotional marketing through our Connections Networking Groups. These groups are designed to allow for one business type per industry per group.&nbsp\; For more information please&nbsp\;contact Christina Tamas\, ChristinasellsCLE\,&nbsp\;christinasellscle@gmail.com
LOCATION:Coppertop Golf Club 5740 Center Rd Valley City\, OH 44280
UID:e.160.2904
SEQUENCE:3
DTSTAMP:20260420T102005Z
URL:https://members.nmccalliance.com/events/details/connecions-networking-iii-05-24-2022-2904
END:VEVENT

END:VCALENDAR
